BEGIN:VCALENDAR
PRODID:-//github.com/ical-org/ical.net//NONSGML ical.net 4.0//EN
VERSION:2.0
BEGIN:VTIMEZONE
TZID:America/New_York
X-LIC-LOCATION:America/New_York
BEGIN:STANDARD
DTSTART:20241103T020000
RRULE:FREQ=YEARLY;BYDAY=1SU;BYMONTH=11
TZNAME:EST
TZOFFSETFROM:-0400
TZOFFSETTO:-0500
END:STANDARD
BEGIN:DAYLIGHT
DTSTART:20250309T020000
RRULE:FREQ=YEARLY;BYDAY=2SU;BYMONTH=3
TZNAME:EDT
TZOFFSETFROM:-0500
TZOFFSETTO:-0400
END:DAYLIGHT
END:VTIMEZONE
BEGIN:VEVENT
DESCRIPTION:Monday\, December 7\, 2026  5:00 PM - 6:00 PM The goal of this
  virtual\, interactive lecture series is to update care providers on the 
 latest advances in fetal diagnostic criteria and optimal management to en
 hance their skills in prenatal diagnosis\, counseling and treatment. Host
 ed by the Fetal Care Center at Yale New Haven Children's Hospital\, this 
 series provides a forum to delineate fetal diagnoses\, therapies availabl
 e\, and the impact they can have on pregnancy management and maternal/fet
 al outcomes.Objectives Identify maternal and fetal indications for variou
 s fetal interventions and associated maternal-fetal outcomes Discuss pren
 atal counseling\, obstetrical management\, fetal therapy options\, fetal 
 surveillance and delivery planning for fetuses with select fetal anomalie
 s Discuss ongoing research endeavors related to maternal-fetal health and
  childhood outcomes Registration: Please visit our conference website at 
 https://yale.cloud-cme.com/fetalcareseries2026 for full course details in
 cluding registration.\n\nSpeakers:\nDavid Stitelman\; Mert Bahtiyar\; Sar
 ah Maurrasse\n\nAdmission:\nFree\n\nDetails URL:\nhttps://medicine.yale.e
 du/event/fetal-care-center-series-5/\n
DTEND;TZID=America/New_York:20261207T180000
DTSTAMP:20260425T144142Z
DTSTART;TZID=America/New_York:20261207T170000
LOCATION:Online registration will close at 1 pm the day of the webinar and
  the Zoom webinar link will be forwarded to registrants at that time. \, 
 URL: https://yale.cloud-cme.com/course/courseoverview?P=5&EID=54950
SEQUENCE:0
STATUS:Confirmed
SUMMARY:Yale Fetal Care Center Education Series
UID:a71b060e-d0b2-4460-b24a-03ef5ca39c8b
END:VEVENT
END:VCALENDAR
