BEGIN:VCALENDAR
PRODID:-//github.com/ical-org/ical.net//NONSGML ical.net 4.0//EN
VERSION:2.0
BEGIN:VTIMEZONE
TZID:America/New_York
X-LIC-LOCATION:America/New_York
BEGIN:STANDARD
DTSTART:20241103T020000
RRULE:FREQ=YEARLY;BYDAY=1SU;BYMONTH=11
TZNAME:EST
TZOFFSETFROM:-0400
TZOFFSETTO:-0500
END:STANDARD
BEGIN:DAYLIGHT
DTSTART:20250309T020000
RRULE:FREQ=YEARLY;BYDAY=2SU;BYMONTH=3
TZNAME:EDT
TZOFFSETFROM:-0500
TZOFFSETTO:-0400
END:DAYLIGHT
END:VTIMEZONE
BEGIN:VEVENT
DESCRIPTION:\nSpeaker:\nPaul Mischel\, MD\n\nAdmission:\nFree\n\nFood:\nSn
 acks\n\nDetails URL:\nhttps://medicine.yale.edu/event/gensem090225/\n
DTEND;TZID=America/New_York:20250902T123000
DTSTAMP:20260422T185049Z
DTSTART;TZID=America/New_York:20250902T113000
LOCATION:Password: 555463\, URL: https://yale.zoom.us/j/95938508356?pwd=w8
 jrXnWNpxq2hjFi3vgI2D8d9YmHJ6.1
RECURRENCE-ID;TZID=America/New_York:20250902T113000
SEQUENCE:0
STATUS:Confirmed
SUMMARY:Genetics Department Seminar Series
UID:b7437351-f05f-457c-bd50-0e1b50ce8f26
END:VEVENT
BEGIN:VEVENT
DESCRIPTION:\nAdmission:\nFree\n\nFood:\nSnacks\n\nDetails URL:\nhttps://m
 edicine.yale.edu/event/gensem090925/\n
DTEND;TZID=America/New_York:20250909T123000
DTSTAMP:20260422T185049Z
DTSTART;TZID=America/New_York:20250909T113000
LOCATION:Password: 555463\, URL: https://yale.zoom.us/j/95938508356?pwd=w8
 jrXnWNpxq2hjFi3vgI2D8d9YmHJ6.1
RECURRENCE-ID;TZID=America/New_York:20250909T113000
SEQUENCE:0
STATUS:Cancelled
SUMMARY:Cancelled: Genetics Department Seminar Series
UID:b7437351-f05f-457c-bd50-0e1b50ce8f26
END:VEVENT
BEGIN:VEVENT
DESCRIPTION:\nSpeaker:\nMartin Kircher\n\nAdmission:\nFree\n\nFood:\nSnack
 s\n\nDetails URL:\nhttps://medicine.yale.edu/event/gensem091625/\n
DTEND;TZID=America/New_York:20250916T123000
DTSTAMP:20260422T185049Z
DTSTART;TZID=America/New_York:20250916T113000
LOCATION:Password: 555463\, URL: https://yale.zoom.us/j/95938508356?pwd=w8
 jrXnWNpxq2hjFi3vgI2D8d9YmHJ6.1
RECURRENCE-ID;TZID=America/New_York:20250916T113000
SEQUENCE:0
STATUS:Confirmed
SUMMARY:Genetics Department Seminar Series
UID:b7437351-f05f-457c-bd50-0e1b50ce8f26
END:VEVENT
BEGIN:VEVENT
DESCRIPTION:\nSpeaker:\nTuuli Lappalainen\, PhD\n\nAdmission:\nFree\n\nFoo
 d:\nSnacks\n\nDetails URL:\nhttps://medicine.yale.edu/event/gensem092325/
 \n
DTEND;TZID=America/New_York:20250923T123000
DTSTAMP:20260422T185049Z
DTSTART;TZID=America/New_York:20250923T113000
LOCATION:Password: 555463\, URL: https://yale.zoom.us/j/95938508356?pwd=w8
 jrXnWNpxq2hjFi3vgI2D8d9YmHJ6.1
RECURRENCE-ID;TZID=America/New_York:20250923T113000
SEQUENCE:0
STATUS:Confirmed
SUMMARY:Genetics Department Seminar Series
UID:b7437351-f05f-457c-bd50-0e1b50ce8f26
END:VEVENT
BEGIN:VEVENT
DESCRIPTION:\nSpeaker:\nLucia Prieto Godino\n\nAdmission:\nFree\n\nFood:\n
 Snacks\n\nDetails URL:\nhttps://medicine.yale.edu/event/gensem093025/\n
DTEND;TZID=America/New_York:20250930T123000
DTSTAMP:20260422T185049Z
DTSTART;TZID=America/New_York:20250930T113000
LOCATION:Password: 555463\, URL: https://yale.zoom.us/j/95938508356?pwd=w8
 jrXnWNpxq2hjFi3vgI2D8d9YmHJ6.1
RECURRENCE-ID;TZID=America/New_York:20250930T113000
SEQUENCE:0
STATUS:Confirmed
SUMMARY:Genetics Department Seminar Series: "Evolution of Olfactory Circui
 ts: From Connectomes to Behavior"
UID:b7437351-f05f-457c-bd50-0e1b50ce8f26
END:VEVENT
BEGIN:VEVENT
DESCRIPTION:\nSpeaker:\nZhongwei Li\n\nAdmission:\nFree\n\nFood:\nSnacks\n
 \nDetails URL:\nhttps://medicine.yale.edu/event/gensem100725/\n
DTEND;TZID=America/New_York:20251007T123000
DTSTAMP:20260422T185049Z
DTSTART;TZID=America/New_York:20251007T113000
LOCATION:Password: 555463\, URL: https://yale.zoom.us/j/95938508356?pwd=w8
 jrXnWNpxq2hjFi3vgI2D8d9YmHJ6.1
RECURRENCE-ID;TZID=America/New_York:20251007T113000
SEQUENCE:0
STATUS:Confirmed
SUMMARY:Genetics Department Seminar Series: “Building Kidney Organoid and 
 Assembloid Platforms for Disease Modeling and Regenerative Medicine”
UID:b7437351-f05f-457c-bd50-0e1b50ce8f26
END:VEVENT
BEGIN:VEVENT
DESCRIPTION:\nSpeaker:\nTitia de Lange\n\nAdmission:\nFree\n\nFood:\nSnack
 s\n\nDetails URL:\nhttps://medicine.yale.edu/event/gensem101425/\n
DTEND;TZID=America/New_York:20251014T123000
DTSTAMP:20260422T185049Z
DTSTART;TZID=America/New_York:20251014T113000
LOCATION:Password: 555463\, URL: https://yale.zoom.us/j/95938508356?pwd=w8
 jrXnWNpxq2hjFi3vgI2D8d9YmHJ6.1
RECURRENCE-ID;TZID=America/New_York:20251014T113000
SEQUENCE:0
STATUS:Confirmed
SUMMARY:Genetics Department Seminar Series: "2 Billion Years of Shelterin 
 and T-loops: From Telomere Protection to Cancer Prevention"
UID:b7437351-f05f-457c-bd50-0e1b50ce8f26
END:VEVENT
BEGIN:VEVENT
DESCRIPTION:\nSpeaker:\nJeffrey Settleman \n\nAdmission:\nFree\n\nFood:\nS
 nacks\n\nDetails URL:\nhttps://medicine.yale.edu/event/gensem102125/\n
DTEND;TZID=America/New_York:20251021T123000
DTSTAMP:20260422T185049Z
DTSTART;TZID=America/New_York:20251021T113000
LOCATION:Password: 555463\, URL: https://yale.zoom.us/j/95938508356?pwd=w8
 jrXnWNpxq2hjFi3vgI2D8d9YmHJ6.1
RECURRENCE-ID;TZID=America/New_York:20251021T113000
SEQUENCE:0
STATUS:Confirmed
SUMMARY:Wilbur Cross Medal Lecture
UID:b7437351-f05f-457c-bd50-0e1b50ce8f26
END:VEVENT
BEGIN:VEVENT
DESCRIPTION:\nSpeaker:\nRebecca Burdine\, PhD\n\nAdmission:\nFree\n\nFood:
 \nSnacks\n\nDetails URL:\nhttps://medicine.yale.edu/event/gensem102825/\n
DTEND;TZID=America/New_York:20251028T123000
DTSTAMP:20260422T185049Z
DTSTART;TZID=America/New_York:20251028T113000
LOCATION:Password: 555463\, URL: https://yale.zoom.us/j/95938508356?pwd=w8
 jrXnWNpxq2hjFi3vgI2D8d9YmHJ6.1
RECURRENCE-ID;TZID=America/New_York:20251028T113000
SEQUENCE:0
STATUS:Confirmed
SUMMARY:Genetics Department Seminar Series: "How the Heart Takes a Left Tu
 rn: Coordinating Signaling and Cell Migration in Zebrafish."
UID:b7437351-f05f-457c-bd50-0e1b50ce8f26
END:VEVENT
BEGIN:VEVENT
DESCRIPTION:\nAdmission:\nFree\n\nFood:\nSnacks\n\nDetails URL:\nhttps://m
 edicine.yale.edu/event/gensem110425/\n
DTEND;TZID=America/New_York:20251104T123000
DTSTAMP:20260422T185049Z
DTSTART;TZID=America/New_York:20251104T113000
LOCATION:Password: 555463\, URL: https://yale.zoom.us/j/95938508356?pwd=w8
 jrXnWNpxq2hjFi3vgI2D8d9YmHJ6.1
RECURRENCE-ID;TZID=America/New_York:20251104T113000
SEQUENCE:0
STATUS:Confirmed
SUMMARY:Cancelled Genetics Department Seminar Series
UID:b7437351-f05f-457c-bd50-0e1b50ce8f26
END:VEVENT
BEGIN:VEVENT
DESCRIPTION:\nSpeaker:\nDavid Reich\n\nAdmission:\nFree\n\nFood:\nSnacks\n
 \nDetails URL:\nhttps://medicine.yale.edu/event/gensem111125/\n
DTEND;TZID=America/New_York:20251111T123000
DTSTAMP:20260422T185049Z
DTSTART;TZID=America/New_York:20251111T113000
LOCATION:Password: 555463\, URL: https://yale.zoom.us/j/95938508356?pwd=w8
 jrXnWNpxq2hjFi3vgI2D8d9YmHJ6.1
RECURRENCE-ID;TZID=America/New_York:20251111T113000
SEQUENCE:0
STATUS:Confirmed
SUMMARY:Genetics Department Seminar Series: "Realizing the Promise of Anci
 ent DNA to Elucidate Human Adaptation."
UID:b7437351-f05f-457c-bd50-0e1b50ce8f26
END:VEVENT
BEGIN:VEVENT
DESCRIPTION:\nAdmission:\nFree\n\nFood:\nSnacks\n\nDetails URL:\nhttps://m
 edicine.yale.edu/event/gensem111825/\n
DTEND;TZID=America/New_York:20251118T123000
DTSTAMP:20260422T185049Z
DTSTART;TZID=America/New_York:20251118T113000
LOCATION:Password: 555463\, URL: https://yale.zoom.us/j/95938508356?pwd=w8
 jrXnWNpxq2hjFi3vgI2D8d9YmHJ6.1
RECURRENCE-ID;TZID=America/New_York:20251118T113000
SEQUENCE:0
STATUS:Cancelled
SUMMARY:Cancelled Genetics Department Seminar Series
UID:b7437351-f05f-457c-bd50-0e1b50ce8f26
END:VEVENT
BEGIN:VEVENT
DESCRIPTION:\nAdmission:\nFree\n\nFood:\nSnacks\n\nDetails URL:\nhttps://m
 edicine.yale.edu/event/gensem112525/\n
DTEND;TZID=America/New_York:20251125T123000
DTSTAMP:20260422T185049Z
DTSTART;TZID=America/New_York:20251125T113000
LOCATION:Password: 555463\, URL: https://yale.zoom.us/j/95938508356?pwd=w8
 jrXnWNpxq2hjFi3vgI2D8d9YmHJ6.1
RECURRENCE-ID;TZID=America/New_York:20251125T113000
SEQUENCE:0
STATUS:Confirmed
SUMMARY:Cancelled: Genetics Department Seminar Series:
UID:b7437351-f05f-457c-bd50-0e1b50ce8f26
END:VEVENT
BEGIN:VEVENT
DESCRIPTION:\nSpeaker:\nShelley Berger\, PhD\n\nAdmission:\nFree\n\nFood:\
 nSnacks\n\nDetails URL:\nhttps://medicine.yale.edu/event/gensem120225/\n
DTEND;TZID=America/New_York:20251202T123000
DTSTAMP:20260422T185049Z
DTSTART;TZID=America/New_York:20251202T113000
LOCATION:Password: 555463\, URL: https://yale.zoom.us/j/95938508356?pwd=w8
 jrXnWNpxq2hjFi3vgI2D8d9YmHJ6.1
RECURRENCE-ID;TZID=America/New_York:20251202T113000
SEQUENCE:0
STATUS:Confirmed
SUMMARY:Cancelled: Genetics Department Seminar Series: "Epigenetic Pathway
 s as Targets in Human Disease."
UID:b7437351-f05f-457c-bd50-0e1b50ce8f26
END:VEVENT
BEGIN:VEVENT
DESCRIPTION:\nSpeaker:\nChristina Warinner\, PhD\n\nAdmission:\nFree\n\nFo
 od:\nSnacks\n\nDetails URL:\nhttps://medicine.yale.edu/event/gensem120925
 /\n
DTEND;TZID=America/New_York:20251209T123000
DTSTAMP:20260422T185049Z
DTSTART;TZID=America/New_York:20251209T113000
LOCATION:Password: 555463\, URL: https://yale.zoom.us/j/95938508356?pwd=w8
 jrXnWNpxq2hjFi3vgI2D8d9YmHJ6.1
RECURRENCE-ID;TZID=America/New_York:20251209T113000
SEQUENCE:0
STATUS:Confirmed
SUMMARY:Genetics Department Seminar Series
UID:b7437351-f05f-457c-bd50-0e1b50ce8f26
END:VEVENT
BEGIN:VEVENT
DESCRIPTION:\nSpeaker:\nAna Pombo\, PhD\n\nAdmission:\nFree\n\nFood:\nSnac
 ks\n\nDetails URL:\nhttps://medicine.yale.edu/event/gensem121625/\n
DTEND;TZID=America/New_York:20251216T123000
DTSTAMP:20260422T185049Z
DTSTART;TZID=America/New_York:20251216T113000
LOCATION:Password: 555463\, URL: https://yale.zoom.us/j/95938508356?pwd=w8
 jrXnWNpxq2hjFi3vgI2D8d9YmHJ6.1
RECURRENCE-ID;TZID=America/New_York:20251216T113000
SEQUENCE:0
STATUS:Cancelled
SUMMARY:Cancelled Genetics Department Seminar Series
UID:b7437351-f05f-457c-bd50-0e1b50ce8f26
END:VEVENT
BEGIN:VEVENT
DESCRIPTION:\nAdmission:\nFree\n\nFood:\nSnacks\n\nDetails URL:\nhttps://m
 edicine.yale.edu/event/gensem-add-date-25-113/\n
DTEND;TZID=America/New_York:20251223T123000
DTSTAMP:20260422T185049Z
DTSTART;TZID=America/New_York:20251223T113000
LOCATION:Password: 555463\, URL: https://yale.zoom.us/j/95938508356?pwd=w8
 jrXnWNpxq2hjFi3vgI2D8d9YmHJ6.1
RECURRENCE-ID;TZID=America/New_York:20251223T113000
SEQUENCE:0
STATUS:Confirmed
SUMMARY:Cancelled: Genetics Department Seminar Series:
UID:b7437351-f05f-457c-bd50-0e1b50ce8f26
END:VEVENT
BEGIN:VEVENT
DESCRIPTION:\nAdmission:\nFree\n\nFood:\nSnacks\n\nDetails URL:\nhttps://m
 edicine.yale.edu/event/gensem-add-date-25-120/\n
DTEND;TZID=America/New_York:20251230T123000
DTSTAMP:20260422T185049Z
DTSTART;TZID=America/New_York:20251230T113000
LOCATION:Password: 555463\, URL: https://yale.zoom.us/j/95938508356?pwd=w8
 jrXnWNpxq2hjFi3vgI2D8d9YmHJ6.1
RECURRENCE-ID;TZID=America/New_York:20251230T113000
SEQUENCE:0
STATUS:Confirmed
SUMMARY:Cancelled: Genetics Department Seminar Series:
UID:b7437351-f05f-457c-bd50-0e1b50ce8f26
END:VEVENT
BEGIN:VEVENT
DESCRIPTION:\nAdmission:\nFree\n\nFood:\nSnacks\n\nDetails URL:\nhttps://m
 edicine.yale.edu/event/gensem-add-date-25-127/\n
DTEND;TZID=America/New_York:20260106T123000
DTSTAMP:20260422T185049Z
DTSTART;TZID=America/New_York:20260106T113000
LOCATION:Password: 555463\, URL: https://yale.zoom.us/j/95938508356?pwd=w8
 jrXnWNpxq2hjFi3vgI2D8d9YmHJ6.1
RECURRENCE-ID;TZID=America/New_York:20260106T113000
SEQUENCE:0
STATUS:Confirmed
SUMMARY:Cancelled: Genetics Department Seminar Series
UID:b7437351-f05f-457c-bd50-0e1b50ce8f26
END:VEVENT
BEGIN:VEVENT
DESCRIPTION:\nAdmission:\nFree\n\nFood:\nSnacks\n\nDetails URL:\nhttps://m
 edicine.yale.edu/event/gensem-add-date-25-134/\n
DTEND;TZID=America/New_York:20260113T123000
DTSTAMP:20260422T185049Z
DTSTART;TZID=America/New_York:20260113T113000
LOCATION:Password: 555463\, URL: https://yale.zoom.us/j/95938508356?pwd=w8
 jrXnWNpxq2hjFi3vgI2D8d9YmHJ6.1
RECURRENCE-ID;TZID=America/New_York:20260113T113000
SEQUENCE:0
STATUS:Confirmed
SUMMARY:Cancelled Genetics Department Seminar Series
UID:b7437351-f05f-457c-bd50-0e1b50ce8f26
END:VEVENT
BEGIN:VEVENT
DESCRIPTION:\nAdmission:\nFree\n\nFood:\nSnacks\n\nDetails URL:\nhttps://m
 edicine.yale.edu/event/gensem-add-date-25-141/\n
DTEND;TZID=America/New_York:20260120T123000
DTSTAMP:20260422T185049Z
DTSTART;TZID=America/New_York:20260120T113000
LOCATION:Password: 555463\, URL: https://yale.zoom.us/j/95938508356?pwd=w8
 jrXnWNpxq2hjFi3vgI2D8d9YmHJ6.1
RECURRENCE-ID;TZID=America/New_York:20260120T113000
SEQUENCE:0
STATUS:Confirmed
SUMMARY:Cancelled: Genetics Department Seminar Series
UID:b7437351-f05f-457c-bd50-0e1b50ce8f26
END:VEVENT
BEGIN:VEVENT
DESCRIPTION:\nAdmission:\nFree\n\nFood:\nSnacks\n\nDetails URL:\nhttps://m
 edicine.yale.edu/event/gensem012726/\n
DTEND;TZID=America/New_York:20260127T123000
DTSTAMP:20260422T185049Z
DTSTART;TZID=America/New_York:20260127T113000
LOCATION:Password: 555463\, URL: https://yale.zoom.us/j/95938508356?pwd=w8
 jrXnWNpxq2hjFi3vgI2D8d9YmHJ6.1
RECURRENCE-ID;TZID=America/New_York:20260127T113000
SEQUENCE:0
STATUS:Confirmed
SUMMARY:Cancelled: Genetics Department Seminar Series
UID:b7437351-f05f-457c-bd50-0e1b50ce8f26
END:VEVENT
BEGIN:VEVENT
DESCRIPTION:\nAdmission:\nFree\n\nFood:\nSnacks\n\nDetails URL:\nhttps://m
 edicine.yale.edu/event/gensem-add-date-25-155/\n
DTEND;TZID=America/New_York:20260203T123000
DTSTAMP:20260422T185049Z
DTSTART;TZID=America/New_York:20260203T113000
LOCATION:Password: 555463\, URL: https://yale.zoom.us/j/95938508356?pwd=w8
 jrXnWNpxq2hjFi3vgI2D8d9YmHJ6.1
RECURRENCE-ID;TZID=America/New_York:20260203T113000
SEQUENCE:0
STATUS:Confirmed
SUMMARY:Genetics Department Seminar Series
UID:b7437351-f05f-457c-bd50-0e1b50ce8f26
END:VEVENT
BEGIN:VEVENT
DESCRIPTION:\nAdmission:\nFree\n\nFood:\nSnacks\n\nDetails URL:\nhttps://m
 edicine.yale.edu/event/gensem-add-date-25-162/\n
DTEND;TZID=America/New_York:20260210T123000
DTSTAMP:20260422T185049Z
DTSTART;TZID=America/New_York:20260210T113000
LOCATION:Password: 555463\, URL: https://yale.zoom.us/j/95938508356?pwd=w8
 jrXnWNpxq2hjFi3vgI2D8d9YmHJ6.1
RECURRENCE-ID;TZID=America/New_York:20260210T113000
SEQUENCE:0
STATUS:Confirmed
SUMMARY:Cancelled: Genetics Department Seminar Series
UID:b7437351-f05f-457c-bd50-0e1b50ce8f26
END:VEVENT
BEGIN:VEVENT
DESCRIPTION:\nAdmission:\nFree\n\nFood:\nSnacks\n\nDetails URL:\nhttps://m
 edicine.yale.edu/event/gensem021726/\n
DTEND;TZID=America/New_York:20260217T123000
DTSTAMP:20260422T185049Z
DTSTART;TZID=America/New_York:20260217T113000
LOCATION:Password: 555463\, URL: https://yale.zoom.us/j/95938508356?pwd=w8
 jrXnWNpxq2hjFi3vgI2D8d9YmHJ6.1
RECURRENCE-ID;TZID=America/New_York:20260217T113000
SEQUENCE:0
STATUS:Confirmed
SUMMARY:Cancelled: Genetics Department Seminar Series
UID:b7437351-f05f-457c-bd50-0e1b50ce8f26
END:VEVENT
BEGIN:VEVENT
DESCRIPTION:\nSpeaker:\nEdward Morrisey \n\nAdmission:\nFree\n\nFood:\nSna
 cks\n\nDetails URL:\nhttps://medicine.yale.edu/event/gensem022426/\n
DTEND;TZID=America/New_York:20260224T123000
DTSTAMP:20260422T185049Z
DTSTART;TZID=America/New_York:20260224T113000
LOCATION:Password: 555463\, URL: https://yale.zoom.us/j/95938508356?pwd=w8
 jrXnWNpxq2hjFi3vgI2D8d9YmHJ6.1
RECURRENCE-ID;TZID=America/New_York:20260224T113000
SEQUENCE:0
STATUS:Confirmed
SUMMARY:Cancelled: Genetics Department Seminar Series
UID:b7437351-f05f-457c-bd50-0e1b50ce8f26
END:VEVENT
BEGIN:VEVENT
DESCRIPTION:\nSpeaker:\nJennifer Zenker\n\nAdmission:\nFree\n\nFood:\nSnac
 ks\n\nDetails URL:\nhttps://medicine.yale.edu/event/gensem030326/\n
DTEND;TZID=America/New_York:20260303T123000
DTSTAMP:20260422T185049Z
DTSTART;TZID=America/New_York:20260303T113000
LOCATION:Password: 555463\, URL: https://yale.zoom.us/j/95938508356?pwd=w8
 jrXnWNpxq2hjFi3vgI2D8d9YmHJ6.1
RECURRENCE-ID;TZID=America/New_York:20260303T113000
SEQUENCE:0
STATUS:Confirmed
SUMMARY:Genetics Department Seminar Series: "Microtubule-Directed Asymmetr
 ies Regulating Stem Cell Fate Decisions."
UID:b7437351-f05f-457c-bd50-0e1b50ce8f26
END:VEVENT
BEGIN:VEVENT
DESCRIPTION:\nAdmission:\nFree\n\nFood:\nSnacks\n\nDetails URL:\nhttps://m
 edicine.yale.edu/event/gensem031026/\n
DTEND;TZID=America/New_York:20260310T123000
DTSTAMP:20260422T185049Z
DTSTART;TZID=America/New_York:20260310T113000
LOCATION:Password: 555463\, URL: https://yale.zoom.us/j/95938508356?pwd=w8
 jrXnWNpxq2hjFi3vgI2D8d9YmHJ6.1
RECURRENCE-ID;TZID=America/New_York:20260310T113000
SEQUENCE:0
STATUS:Confirmed
SUMMARY:Cancelled: Genetics Department Seminar Series
UID:b7437351-f05f-457c-bd50-0e1b50ce8f26
END:VEVENT
BEGIN:VEVENT
DESCRIPTION:\nSpeaker:\nMatthias Hentze\n\nAdmission:\nFree\n\nFood:\nSnac
 ks\n\nDetails URL:\nhttps://medicine.yale.edu/event/gensem031726/\n
DTEND;TZID=America/New_York:20260317T123000
DTSTAMP:20260422T185049Z
DTSTART;TZID=America/New_York:20260317T113000
LOCATION:Password: 555463\, URL: https://yale.zoom.us/j/95938508356?pwd=w8
 jrXnWNpxq2hjFi3vgI2D8d9YmHJ6.1
RECURRENCE-ID;TZID=America/New_York:20260317T113000
SEQUENCE:0
STATUS:Confirmed
SUMMARY:Genetics Department Seminar Series
UID:b7437351-f05f-457c-bd50-0e1b50ce8f26
END:VEVENT
BEGIN:VEVENT
DESCRIPTION:\nSpeaker:\nHaiqi Chen\n\nAdmission:\nFree\n\nFood:\nSnacks\n\
 nDetails URL:\nhttps://medicine.yale.edu/event/gensem032426/\n
DTEND;TZID=America/New_York:20260324T123000
DTSTAMP:20260422T185049Z
DTSTART;TZID=America/New_York:20260324T113000
LOCATION:Password: 555463\, URL: https://yale.zoom.us/j/95938508356?pwd=w8
 jrXnWNpxq2hjFi3vgI2D8d9YmHJ6.1
RECURRENCE-ID;TZID=America/New_York:20260324T113000
SEQUENCE:0
STATUS:Confirmed
SUMMARY:Genetics Department Seminar Series: “Extrachromosomal Circular DNA
  Function as Mobile Elements to Disrupt the Integrity of the Germline Gen
 ome"
UID:b7437351-f05f-457c-bd50-0e1b50ce8f26
END:VEVENT
BEGIN:VEVENT
DESCRIPTION:\nSpeaker:\nRodrigo Fernandez-Gonzalez\n\nAdmission:\nFree\n\n
 Food:\nSnacks\n\nDetails URL:\nhttps://medicine.yale.edu/event/gensem0331
 26/\n
DTEND;TZID=America/New_York:20260331T123000
DTSTAMP:20260422T185049Z
DTSTART;TZID=America/New_York:20260331T113000
LOCATION:Password: 555463\, URL: https://yale.zoom.us/j/95938508356?pwd=w8
 jrXnWNpxq2hjFi3vgI2D8d9YmHJ6.1
RECURRENCE-ID;TZID=America/New_York:20260331T113000
SEQUENCE:0
STATUS:Confirmed
SUMMARY:Genetics Department Seminar Series: “Collective Cell Movements: Ce
 llular and Molecular Dynamics at the Leading Edge"
UID:b7437351-f05f-457c-bd50-0e1b50ce8f26
END:VEVENT
BEGIN:VEVENT
DESCRIPTION:\nSpeaker:\nLucy Erin O'Brien\n\nAdmission:\nFree\n\nFood:\nSn
 acks\n\nDetails URL:\nhttps://medicine.yale.edu/event/gensem040726/\n
DTEND;TZID=America/New_York:20260407T123000
DTSTAMP:20260422T185049Z
DTSTART;TZID=America/New_York:20260407T113000
LOCATION:Password: 555463\, URL: https://yale.zoom.us/j/95938508356?pwd=w8
 jrXnWNpxq2hjFi3vgI2D8d9YmHJ6.1
RECURRENCE-ID;TZID=America/New_York:20260407T113000
SEQUENCE:0
STATUS:Confirmed
SUMMARY:Genetics Department Seminar Series
UID:b7437351-f05f-457c-bd50-0e1b50ce8f26
END:VEVENT
BEGIN:VEVENT
DESCRIPTION:\nSpeaker:\n Victor Ambros\n\nAdmission:\nFree\n\nFood:\nSnack
 s\n\nDetails URL:\nhttps://medicine.yale.edu/event/gensem041426/\n
DTEND;TZID=America/New_York:20260414T123000
DTSTAMP:20260422T185049Z
DTSTART;TZID=America/New_York:20260414T113000
LOCATION:Password: 555463\, URL: https://yale.zoom.us/j/95938508356?pwd=w8
 jrXnWNpxq2hjFi3vgI2D8d9YmHJ6.1
RECURRENCE-ID;TZID=America/New_York:20260414T113000
SEQUENCE:0
STATUS:Confirmed
SUMMARY:Adelberg Special Lecture
UID:b7437351-f05f-457c-bd50-0e1b50ce8f26
END:VEVENT
BEGIN:VEVENT
DESCRIPTION:\nSpeaker:\nJianping Fu \n\nAdmission:\nFree\n\nFood:\nSnacks\
 n\nDetails URL:\nhttps://medicine.yale.edu/event/gensem042126/\n
DTEND;TZID=America/New_York:20260421T123000
DTSTAMP:20260422T185049Z
DTSTART;TZID=America/New_York:20260421T113000
LOCATION:Password: 555463\, URL: https://yale.zoom.us/j/95938508356?pwd=w8
 jrXnWNpxq2hjFi3vgI2D8d9YmHJ6.1
RECURRENCE-ID;TZID=America/New_York:20260421T113000
SEQUENCE:0
STATUS:Confirmed
SUMMARY:Genetics Department Seminar Series
UID:b7437351-f05f-457c-bd50-0e1b50ce8f26
END:VEVENT
BEGIN:VEVENT
DESCRIPTION:\nSpeaker:\nMaude Baldwin\n\nAdmission:\nFree\n\nFood:\nSnacks
 \n\nDetails URL:\nhttps://medicine.yale.edu/event/gensem042826/\n
DTEND;TZID=America/New_York:20260428T123000
DTSTAMP:20260422T185049Z
DTSTART;TZID=America/New_York:20260428T113000
LOCATION:Password: 555463\, URL: https://yale.zoom.us/j/95938508356?pwd=w8
 jrXnWNpxq2hjFi3vgI2D8d9YmHJ6.1
RECURRENCE-ID;TZID=America/New_York:20260428T113000
SEQUENCE:0
STATUS:Confirmed
SUMMARY:Genetics Department Seminar Series
UID:b7437351-f05f-457c-bd50-0e1b50ce8f26
END:VEVENT
BEGIN:VEVENT
DESCRIPTION:\nAdmission:\nFree\n\nFood:\nSnacks\n\nDetails URL:\nhttps://m
 edicine.yale.edu/event/gensem-add-date-25-246/\n
DTEND;TZID=America/New_York:20260505T123000
DTSTAMP:20260422T185049Z
DTSTART;TZID=America/New_York:20260505T113000
LOCATION:Password: 555463\, URL: https://yale.zoom.us/j/95938508356?pwd=w8
 jrXnWNpxq2hjFi3vgI2D8d9YmHJ6.1
RECURRENCE-ID;TZID=America/New_York:20260505T113000
SEQUENCE:0
STATUS:Confirmed
SUMMARY:Cancelled: Genetics Department Seminar Series
UID:b7437351-f05f-457c-bd50-0e1b50ce8f26
END:VEVENT
BEGIN:VEVENT
DESCRIPTION:\nAdmission:\nFree\n\nFood:\nSnacks\n\nDetails URL:\nhttps://m
 edicine.yale.edu/event/gensem051226/\n
DTEND;TZID=America/New_York:20260512T123000
DTSTAMP:20260422T185049Z
DTSTART;TZID=America/New_York:20260512T113000
LOCATION:Password: 555463\, URL: https://yale.zoom.us/j/95938508356?pwd=w8
 jrXnWNpxq2hjFi3vgI2D8d9YmHJ6.1
RECURRENCE-ID;TZID=America/New_York:20260512T113000
SEQUENCE:0
STATUS:Cancelled
SUMMARY:Genetics Department Seminar Series:
UID:b7437351-f05f-457c-bd50-0e1b50ce8f26
END:VEVENT
BEGIN:VEVENT
DESCRIPTION:\nAdmission:\nFree\n\nFood:\nSnacks\n\nDetails URL:\nhttps://m
 edicine.yale.edu/event/gensem051926/\n
DTEND;TZID=America/New_York:20260519T123000
DTSTAMP:20260422T185049Z
DTSTART;TZID=America/New_York:20260519T113000
LOCATION:Password: 555463\, URL: https://yale.zoom.us/j/95938508356?pwd=w8
 jrXnWNpxq2hjFi3vgI2D8d9YmHJ6.1
RECURRENCE-ID;TZID=America/New_York:20260519T113000
SEQUENCE:0
STATUS:Confirmed
SUMMARY:Genetics Department Seminar Series:
UID:b7437351-f05f-457c-bd50-0e1b50ce8f26
END:VEVENT
BEGIN:VEVENT
DESCRIPTION:\nAdmission:\nFree\n\nFood:\nSnacks\n\nDetails URL:\nhttps://m
 edicine.yale.edu/event/gensem052626/\n
DTEND;TZID=America/New_York:20260526T123000
DTSTAMP:20260422T185049Z
DTSTART;TZID=America/New_York:20260526T113000
LOCATION:Password: 555463\, URL: https://yale.zoom.us/j/95938508356?pwd=w8
 jrXnWNpxq2hjFi3vgI2D8d9YmHJ6.1
RECURRENCE-ID;TZID=America/New_York:20260526T113000
SEQUENCE:0
STATUS:Confirmed
SUMMARY:Genetics Department Seminar Series:
UID:b7437351-f05f-457c-bd50-0e1b50ce8f26
END:VEVENT
BEGIN:VEVENT
DESCRIPTION:\nAdmission:\nFree\n\nFood:\nSnacks\n
DTEND;TZID=America/New_York:20250902T123000
DTSTAMP:20260422T185049Z
DTSTART;TZID=America/New_York:20250902T113000
LOCATION:Password: 555463\, URL: https://yale.zoom.us/j/95938508356?pwd=w8
 jrXnWNpxq2hjFi3vgI2D8d9YmHJ6.1
RRULE:FREQ=WEEKLY;UNTIL=20260527T035959Z;BYDAY=TU
SEQUENCE:0
STATUS:Confirmed
SUMMARY:Genetics Department Seminar Series:
UID:b7437351-f05f-457c-bd50-0e1b50ce8f26
END:VEVENT
END:VCALENDAR
