BEGIN:VCALENDAR
PRODID:-//github.com/ical-org/ical.net//NONSGML ical.net 4.0//EN
VERSION:2.0
BEGIN:VTIMEZONE
TZID:America/New_York
X-LIC-LOCATION:America/New_York
BEGIN:STANDARD
DTSTART:20241103T020000
RRULE:FREQ=YEARLY;BYDAY=1SU;BYMONTH=11
TZNAME:EST
TZOFFSETFROM:-0400
TZOFFSETTO:-0500
END:STANDARD
BEGIN:DAYLIGHT
DTSTART:20250309T020000
RRULE:FREQ=YEARLY;BYDAY=2SU;BYMONTH=3
TZNAME:EDT
TZOFFSETFROM:-0500
TZOFFSETTO:-0400
END:DAYLIGHT
END:VTIMEZONE
BEGIN:VEVENT
DESCRIPTION:All are welcome. Shawn Demehri\, MD\, PhD\, is the inaugural i
 ncumbent of the Arthur and Sandra Irving Endowed Chair in Cancer Immunolo
 gy at Massachusetts General Hospital\, and associate professor at Harvard
  Medical School. Demehri is a physician-scientist performing basic scienc
 e and translational research in cancer immunoprevention related to skin\,
  breast\, and other epithelial cancers. His laboratory is focused on dete
 rmining the immune system's role in maintaining normal tissue homeostasis
  and preventing the early stages of cancer development. Demehri is a reci
 pient of several awards\, including: American Academy of Dermatology Youn
 g Investigator Award American Society for Clinical Investigation (ASCI) Y
 oung Physician-Scientist Award (currently a member of ASCI) NIH Director'
 s Early Independence Award Burroughs Wellcome Fund Career Award for Medic
 al Scientists Breast Cancer Alliance Young Investigator Award Kimmel Scho
 lar Award LEO Foundation Award Gray Foundation Award MGH Research Scholar
  Award\n\nSpeaker:\nShawn Demehri\, MD\, PhD\n\nAdmission:\nFree\n\nDetai
 ls URL:\nhttps://medicine.yale.edu/event/visiting-professor-lecture/\n
DTEND;TZID=America/New_York:20260401T110000
DTSTAMP:20260419T150904Z
DTSTART;TZID=America/New_York:20260401T100000
GEO:41.302774;-72.935109
LOCATION:Fitkin Memorial Pavilion Auditorium\, 789 Howard Avenue\, New Hav
 en\, CT\, United States
SEQUENCE:0
STATUS:Confirmed
SUMMARY:Visiting Professor Lecture
UID:16b645c9-42b9-4ce8-b0a5-cab7196dff24
END:VEVENT
END:VCALENDAR
