BEGIN:VCALENDAR
PRODID:-//github.com/ical-org/ical.net//NONSGML ical.net 4.0//EN
VERSION:2.0
BEGIN:VTIMEZONE
TZID:America/New_York
X-LIC-LOCATION:America/New_York
BEGIN:STANDARD
DTSTART:20241103T020000
RRULE:FREQ=YEARLY;BYDAY=1SU;BYMONTH=11
TZNAME:EST
TZOFFSETFROM:-0400
TZOFFSETTO:-0500
END:STANDARD
BEGIN:DAYLIGHT
DTSTART:20250309T020000
RRULE:FREQ=YEARLY;BYDAY=2SU;BYMONTH=3
TZNAME:EDT
TZOFFSETFROM:-0500
TZOFFSETTO:-0400
END:DAYLIGHT
END:VTIMEZONE
BEGIN:VEVENT
DESCRIPTION:Vice Chairs in Pediatrics are hosting an open space for dialog
 ue to share your thoughts\, ideas\, and concerns! These will be held firs
 t Wednesday of the month\, immediately following Grand Rounds. Time : 1-1
 :45 p.m. Location : LMP 2075 This will be a great opportunity to connect 
 and for us to hear your thoughts and ideas.\n\nAdmission:\nFree\n\nFood:\
 nCoffee\n\nDetails URL:\nhttps://medicine.yale.edu/event/let-listen-with-
 pediatrics-vice-chairs-30/\n
DTEND;TZID=America/New_York:20260506T134500
DTSTAMP:20260420T063845Z
DTSTART;TZID=America/New_York:20260506T130000
GEO:41.304013;-72.935751
LOCATION:Laboratory for Medicine and Pediatrics (LMP)\, 2075\, 15 York Str
 eet\, New Haven\, CT\, United States
SEQUENCE:0
STATUS:Confirmed
SUMMARY:Let's Listen: With Pediatrics Vice Chairs
UID:148d1a3b-130b-4241-852c-c47f9fca13ae
END:VEVENT
END:VCALENDAR
