BEGIN:VCALENDAR
PRODID:-//github.com/ical-org/ical.net//NONSGML ical.net 4.0//EN
VERSION:2.0
BEGIN:VTIMEZONE
TZID:America/New_York
X-LIC-LOCATION:America/New_York
BEGIN:STANDARD
DTSTART:20241103T020000
RRULE:FREQ=YEARLY;BYDAY=1SU;BYMONTH=11
TZNAME:EST
TZOFFSETFROM:-0400
TZOFFSETTO:-0500
END:STANDARD
BEGIN:DAYLIGHT
DTSTART:20250309T020000
RRULE:FREQ=YEARLY;BYDAY=2SU;BYMONTH=3
TZNAME:EDT
TZOFFSETFROM:-0500
TZOFFSETTO:-0400
END:DAYLIGHT
END:VTIMEZONE
BEGIN:VEVENT
DESCRIPTION:We welcome you to join us in celebrating our graduating MD\, M
 D-PhD\, and other joint degree students at the Yale School of Medicine MD
  Class of 2026 commencement ceremony on Monday\, May 18\, at 12:30 p.m.\,
  in Amistad Park. (The park is on Cedar Street\, between Washington Avenu
 e and Amistad Street.) The Class of 2026 has selected Andrew Berg\, MD\, 
 a leader in medical education technology and co-founder of Sketchy\, a vi
 sual learning platform used to enhance medical knowledge and clinical rea
 soning skills\, as the commencement speaker. The annual faculty awards re
 cognizing excellence in medical education will be announced at the ceremo
 ny. Academic regalia is required to participate in the commencement proce
 ssion. Faculty who plan to march in the procession may order regalia by M
 onday\, March 16 .\n\nSpeaker:\nAndrew Berg\, MD\n\nAdmission:\nFree\n\nD
 etails URL:\nhttps://medicine.yale.edu/event/md-class-of-2026-commencemen
 t/\n
DTEND;TZID=America/New_York:20260518T140000
DTSTAMP:20260421T113610Z
DTSTART;TZID=America/New_York:20260518T123000
GEO:41.300750;-72.932135
LOCATION:Amistad Street Park\, 104 Washington Avenue\, New Haven\, CT\, Un
 ited States
SEQUENCE:0
STATUS:Confirmed
SUMMARY:MD Class of 2026 Commencement
UID:e0ed005e-8922-4d08-8d5f-bdc46c6c5e2f
END:VEVENT
END:VCALENDAR
