BEGIN:VCALENDAR
PRODID:-//github.com/ical-org/ical.net//NONSGML ical.net 4.0//EN
VERSION:2.0
BEGIN:VTIMEZONE
TZID:America/New_York
X-LIC-LOCATION:America/New_York
BEGIN:STANDARD
DTSTART:20241103T020000
RRULE:FREQ=YEARLY;BYDAY=1SU;BYMONTH=11
TZNAME:EST
TZOFFSETFROM:-0400
TZOFFSETTO:-0500
END:STANDARD
BEGIN:DAYLIGHT
DTSTART:20250309T020000
RRULE:FREQ=YEARLY;BYDAY=2SU;BYMONTH=3
TZNAME:EDT
TZOFFSETFROM:-0500
TZOFFSETTO:-0400
END:DAYLIGHT
END:VTIMEZONE
BEGIN:VEVENT
DESCRIPTION:\nSpeaker:\nAndrew Putnam\n\nAdmission:\nFree\n\nFood:\nNo foo
 d\n\nDetails URL:\nhttps://medicine.yale.edu/event/gy-seminar-getting-los
 t-in-the-words-how-we-communicate-can-matter-more-than-what-we-say/\n
DTEND;TZID=America/New_York:20260227T140000
DTSTAMP:20260420T164613Z
DTSTART;TZID=America/New_York:20260227T130000
SEQUENCE:0
STATUS:Confirmed
SUMMARY:Digestive Diseases Pathophysiology Seminar
UID:958f6ff9-073d-4157-9570-6b8716e3baf4
END:VEVENT
END:VCALENDAR
