BEGIN:VCALENDAR
PRODID:-//github.com/ical-org/ical.net//NONSGML ical.net 4.0//EN
VERSION:2.0
BEGIN:VTIMEZONE
TZID:America/New_York
X-LIC-LOCATION:America/New_York
BEGIN:STANDARD
DTSTART:20241103T020000
RRULE:FREQ=YEARLY;BYDAY=1SU;BYMONTH=11
TZNAME:EST
TZOFFSETFROM:-0400
TZOFFSETTO:-0500
END:STANDARD
BEGIN:DAYLIGHT
DTSTART:20250309T020000
RRULE:FREQ=YEARLY;BYDAY=2SU;BYMONTH=3
TZNAME:EDT
TZOFFSETFROM:-0500
TZOFFSETTO:-0400
END:DAYLIGHT
END:VTIMEZONE
BEGIN:VEVENT
DESCRIPTION:General Internal Medicine\, Grand Rounds\, Heart Failure Remot
 e Monitoring\n\nSpeaker:\nSara Tabtabai\n\nAdmission:\nFree\n\nDetails UR
 L:\nhttps://medicine.yale.edu/event/gim-gr-heart-failure-remote-monitorin
 g/\n
DTEND;TZID=America/New_York:20260129T083000
DTSTAMP:20260423T020823Z
DTSTART;TZID=America/New_York:20260129T073000
SEQUENCE:0
STATUS:Confirmed
SUMMARY:General Internal Medicine Grand Rounds\, Heart Failure Remote Moni
 toring
UID:2dcb6523-46f9-44d4-8609-3b1d4f343208
END:VEVENT
END:VCALENDAR
