BEGIN:VCALENDAR
PRODID:-//github.com/ical-org/ical.net//NONSGML ical.net 4.0//EN
VERSION:2.0
BEGIN:VTIMEZONE
TZID:America/New_York
X-LIC-LOCATION:America/New_York
BEGIN:STANDARD
DTSTART:20241103T020000
RRULE:FREQ=YEARLY;BYDAY=1SU;BYMONTH=11
TZNAME:EST
TZOFFSETFROM:-0400
TZOFFSETTO:-0500
END:STANDARD
BEGIN:DAYLIGHT
DTSTART:20250309T020000
RRULE:FREQ=YEARLY;BYDAY=2SU;BYMONTH=3
TZNAME:EDT
TZOFFSETFROM:-0500
TZOFFSETTO:-0400
END:DAYLIGHT
END:VTIMEZONE
BEGIN:VEVENT
DESCRIPTION:General Internal Medicine\, Grand Rounds\, Bronchiectasis in P
 ractice: What Internists Need to Know\n\nSpeaker:\nAshley Losier\n\nAdmis
 sion:\nFree\n\nDetails URL:\nhttps://medicine.yale.edu/event/gim-gr-bronc
 hiectasis-in-practice-what-internists-need-to-know/\n
DTEND;TZID=America/New_York:20260115T083000
DTSTAMP:20260421T211747Z
DTSTART;TZID=America/New_York:20260115T073000
SEQUENCE:0
STATUS:Confirmed
SUMMARY:General Internal Medicine Grand Rounds\, Bronchiectasis in Practic
 e: What Internists Need to Know
UID:2d7dd705-efd1-42b5-aa96-f09766a24bfd
END:VEVENT
END:VCALENDAR
