BEGIN:VCALENDAR
PRODID:-//github.com/ical-org/ical.net//NONSGML ical.net 4.0//EN
VERSION:2.0
BEGIN:VTIMEZONE
TZID:America/New_York
X-LIC-LOCATION:America/New_York
BEGIN:STANDARD
DTSTART:20241103T020000
RRULE:FREQ=YEARLY;BYDAY=1SU;BYMONTH=11
TZNAME:EST
TZOFFSETFROM:-0400
TZOFFSETTO:-0500
END:STANDARD
BEGIN:DAYLIGHT
DTSTART:20250309T020000
RRULE:FREQ=YEARLY;BYDAY=2SU;BYMONTH=3
TZNAME:EDT
TZOFFSETFROM:-0500
TZOFFSETTO:-0400
END:DAYLIGHT
END:VTIMEZONE
BEGIN:VEVENT
DESCRIPTION:The MD and PA Programs invite you to the first session of the 
 Joint Student Council Perspectives on Medicine series. Thursday\, Oct. 16
 \, 2025 Hope 110 (315 Cedar Street) 12 - 1 p.m. Speakers: Dean Nancy J. B
 rown\, MD\, “State of the School” Jessica Illuzzi\, MD\, MS\, "Update on 
 the Medical Education Strategic Plan" Lunch will be provided. Please RSVP
  here . For information\, email lisa.egan@yale.edu.\n\nSpeakers:\nJessica
  Illuzzi\; Nancy Brown\n\nAdmission:\nFree\n\nFood:\nLunch\n\nDetails URL
 :\nhttps://medicine.yale.edu/event/joint-student-council-perspectives-on-
 medicine-10-16-25/\n
DTEND;TZID=America/New_York:20251016T130000
DTSTAMP:20260419T150906Z
DTSTART;TZID=America/New_York:20251016T120000
GEO:41.302200;-72.933362
LOCATION:Hope Memorial Building\, 110\, 315 Cedar Street\, New Haven\, CT\
 , United States
SEQUENCE:0
STATUS:Confirmed
SUMMARY:Joint Student Council Perspectives on Medicine
UID:74cae892-c366-4461-aa64-ce5b92873aba
END:VEVENT
END:VCALENDAR
