BEGIN:VCALENDAR
PRODID:-//github.com/ical-org/ical.net//NONSGML ical.net 4.0//EN
VERSION:2.0
BEGIN:VTIMEZONE
TZID:America/New_York
X-LIC-LOCATION:America/New_York
BEGIN:STANDARD
DTSTART:20241103T020000
RRULE:FREQ=YEARLY;BYDAY=1SU;BYMONTH=11
TZNAME:EST
TZOFFSETFROM:-0400
TZOFFSETTO:-0500
END:STANDARD
BEGIN:DAYLIGHT
DTSTART:20250309T020000
RRULE:FREQ=YEARLY;BYDAY=2SU;BYMONTH=3
TZNAME:EDT
TZOFFSETFROM:-0500
TZOFFSETTO:-0400
END:DAYLIGHT
END:VTIMEZONE
BEGIN:VEVENT
DESCRIPTION:\nSpeaker:\nMichael T. Yen\n\nAdmission:\nFree\n\nDetails URL:
 \nhttps://medicine.yale.edu/event/yec-grand-rounds-oculoplastic-fabulous-
 friday-3626/\n
DTEND;TZID=America/New_York:20260306T121500
DTSTAMP:20260419T213450Z
DTSTART;TZID=America/New_York:20260306T070000
GEO:41.301420;-72.933837
LOCATION:The Anlyan Center\, N203\, 300 Cedar Street\, New Haven\, CT\, Un
 ited States
SEQUENCE:0
STATUS:Confirmed
SUMMARY:YEC Grand Rounds
UID:860eac30-5059-4a1d-8377-82e1aba627e4
END:VEVENT
END:VCALENDAR
