BEGIN:VCALENDAR
PRODID:-//github.com/ical-org/ical.net//NONSGML ical.net 4.0//EN
VERSION:2.0
BEGIN:VTIMEZONE
TZID:America/New_York
X-LIC-LOCATION:America/New_York
BEGIN:STANDARD
DTSTART:20241103T020000
RRULE:FREQ=YEARLY;BYDAY=1SU;BYMONTH=11
TZNAME:EST
TZOFFSETFROM:-0400
TZOFFSETTO:-0500
END:STANDARD
BEGIN:DAYLIGHT
DTSTART:20250309T020000
RRULE:FREQ=YEARLY;BYDAY=2SU;BYMONTH=3
TZNAME:EDT
TZOFFSETFROM:-0500
TZOFFSETTO:-0400
END:DAYLIGHT
END:VTIMEZONE
BEGIN:VEVENT
DESCRIPTION:\nSpeakers:\nMichael Wong\; Patrick Hunt\; Katie Li\n\nAdmissi
 on:\nFree\n\nDetails URL:\nhttps://medicine.yale.edu/event/yec-grand-roun
 ds-case-presentation-22026/\n
DTEND;TZID=America/New_York:20260220T081500
DTSTAMP:20260420T125003Z
DTSTART;TZID=America/New_York:20260220T070000
SEQUENCE:0
STATUS:Confirmed
SUMMARY:YEC Grand Rounds Case Presentation
UID:1c7807a3-5df5-4a4f-a966-4877c485b262
END:VEVENT
END:VCALENDAR
