BEGIN:VCALENDAR
PRODID:-//github.com/ical-org/ical.net//NONSGML ical.net 4.0//EN
VERSION:2.0
BEGIN:VTIMEZONE
TZID:America/New_York
X-LIC-LOCATION:America/New_York
BEGIN:STANDARD
DTSTART:20241103T020000
RRULE:FREQ=YEARLY;BYDAY=1SU;BYMONTH=11
TZNAME:EST
TZOFFSETFROM:-0400
TZOFFSETTO:-0500
END:STANDARD
BEGIN:DAYLIGHT
DTSTART:20250309T020000
RRULE:FREQ=YEARLY;BYDAY=2SU;BYMONTH=3
TZNAME:EDT
TZOFFSETFROM:-0500
TZOFFSETTO:-0400
END:DAYLIGHT
END:VTIMEZONE
BEGIN:VEVENT
DESCRIPTION:This session will establish context as to why it is necessary 
 to differentiate jobs from careers\, propose a rubric to classify and tri
 age job versus career needs\, and offer specific\, behaviorally-focused a
 ction plans to make more time available for career development. Topics fo
 r which action plans are offered include calendar management\, explicit p
 rioritization of important but non-urgent tasks\, more effective email us
 e\, and mitigating electronic distractors. The need to say no to particul
 ar asks and opportunities will also be covered. While applicable to facul
 ty at all stages\, the session is likely most impactful for those in earl
 y and mid-careers. Session Type: Repeat Offering (Session content similar
  to 2024-25 session. Best suited for those new to the material or who may
  benefit from a refresher.) Associated Clinician Educator Milestones: UP 
 1: Universal Pillar 1: Reflective practice and commitment to personal gro
 wth UP 2 : Universal Pillar 2: Well-being of learners and colleagues UP 4
 : Universal Pillar 4: Commitment to professional responsibilities\n\nSpea
 ker:\nChristopher Sankey\n\nAdmission:\nFree\n\nDetails URL:\nhttps://med
 icine.yale.edu/event/season15-yes-2026/\n
DTEND;TZID=America/New_York:20260515T130000
DTSTAMP:20260419T153336Z
DTSTART;TZID=America/New_York:20260515T120000
LOCATION:URL: https://yale.zoom.us/j/7722423961
SEQUENCE:0
STATUS:Confirmed
SUMMARY:YES!: Escaping the Tyranny of the Day: Make Space for What Matters
  to You
UID:5a8aba8b-6ae6-495b-aedc-bb9edf287266
END:VEVENT
END:VCALENDAR
