BEGIN:VCALENDAR
PRODID:-//github.com/ical-org/ical.net//NONSGML ical.net 4.0//EN
VERSION:2.0
BEGIN:VTIMEZONE
TZID:America/New_York
X-LIC-LOCATION:America/New_York
BEGIN:STANDARD
DTSTART:20241103T020000
RRULE:FREQ=YEARLY;BYDAY=1SU;BYMONTH=11
TZNAME:EST
TZOFFSETFROM:-0400
TZOFFSETTO:-0500
END:STANDARD
BEGIN:DAYLIGHT
DTSTART:20250309T020000
RRULE:FREQ=YEARLY;BYDAY=2SU;BYMONTH=3
TZNAME:EDT
TZOFFSETFROM:-0500
TZOFFSETTO:-0400
END:DAYLIGHT
END:VTIMEZONE
BEGIN:VEVENT
DESCRIPTION:It’s not always practical or desirable to use PowerPoint for a
  teaching session. The magic of chalk talks lies in its dynamism and flex
 ibility. This session will review the essentials for giving new life and 
 purpose to your white board/chalk talk presentations. Session Type: Repea
 t Offering (Session content similar to 2024-25 session. Best suited for t
 hose new to the material or who may benefit from a refresher.) Associated
  ACGME Clinician Educator Milestone: ETP1: Educational Theory and Practic
 e 1: Teaching and Facilitated Learning\n\nSpeaker:\nJeremy Moeller\n\nAdm
 ission:\nFree\n\nDetails URL:\nhttps://medicine.yale.edu/event/season13-y
 es-2026/\n
DTEND;TZID=America/New_York:20260424T130000
DTSTAMP:20260420T074704Z
DTSTART;TZID=America/New_York:20260424T120000
LOCATION:URL: https://yale.zoom.us/j/7722423961
SEQUENCE:0
STATUS:Confirmed
SUMMARY:YES!: Chalk Talks with Jeremy Moeller\, MD\, MSc
UID:a77fb86e-1493-4ff8-84ed-39b103b8afd0
END:VEVENT
END:VCALENDAR
