BEGIN:VCALENDAR
PRODID:-//github.com/ical-org/ical.net//NONSGML ical.net 4.0//EN
VERSION:2.0
BEGIN:VTIMEZONE
TZID:America/New_York
X-LIC-LOCATION:America/New_York
BEGIN:STANDARD
DTSTART:20241103T020000
RRULE:FREQ=YEARLY;BYDAY=1SU;BYMONTH=11
TZNAME:EST
TZOFFSETFROM:-0400
TZOFFSETTO:-0500
END:STANDARD
BEGIN:DAYLIGHT
DTSTART:20250309T020000
RRULE:FREQ=YEARLY;BYDAY=2SU;BYMONTH=3
TZNAME:EDT
TZOFFSETFROM:-0500
TZOFFSETTO:-0400
END:DAYLIGHT
END:VTIMEZONE
BEGIN:VEVENT
DESCRIPTION:In this session\, we will explore how artificial intelligence 
 tools are rapidly transforming trainee and curriculum assessment in medic
 al education. AI tools integrated into curricular and workplace settings 
 have the potential to enhance learning through efficient\, timely\, and c
 ontinuous competency-based assessment. These tools can also be used for i
 mproving curriculum oversight. Session Type : Advanced (“2.0” content) As
 sociated ACGME Clinician Educator Milestone/s: ETP 1: Educational Theory 
 and Practice 1: Teaching and facilitating learning ETP 3: Educational The
 ory and Practice 3: Learning assessment ETP 4: Educational Theory and Pra
 ctice 4: Feedback ETP 5: Educational Theory and Practice 5: Performance i
 mprovement and remediation ETP 6: Educational Theory and Practice 6: Prog
 rammatic evaluation\n\nSpeaker:\nJaideep Talwalkar\n\nAdmission:\nFree\n\
 nDetails URL:\nhttps://medicine.yale.edu/event/yes-season8-2026/\n
DTEND;TZID=America/New_York:20260123T130000
DTSTAMP:20260419T135048Z
DTSTART;TZID=America/New_York:20260123T120000
LOCATION:URL: https://yale.zoom.us/j/7722423961
SEQUENCE:0
STATUS:Confirmed
SUMMARY:YES!: AI and Feedback
UID:404a49d8-8ac3-49e5-a176-8930a36bb4f8
END:VEVENT
END:VCALENDAR
