BEGIN:VCALENDAR
PRODID:-//github.com/ical-org/ical.net//NONSGML ical.net 4.0//EN
VERSION:2.0
BEGIN:VTIMEZONE
TZID:America/New_York
X-LIC-LOCATION:America/New_York
BEGIN:STANDARD
DTSTART:20241103T020000
RRULE:FREQ=YEARLY;BYDAY=1SU;BYMONTH=11
TZNAME:EST
TZOFFSETFROM:-0400
TZOFFSETTO:-0500
END:STANDARD
BEGIN:DAYLIGHT
DTSTART:20250309T020000
RRULE:FREQ=YEARLY;BYDAY=2SU;BYMONTH=3
TZNAME:EDT
TZOFFSETFROM:-0500
TZOFFSETTO:-0400
END:DAYLIGHT
END:VTIMEZONE
BEGIN:VEVENT
DESCRIPTION:Please join us for the 2025-2026 Yale Cancer Center Grand Roun
 ds\, hosted Tuesdays at 12pm in Smilow Auditorium\, 55 Park Street\, 2nd 
 Floor - unless otherwise noted. Lunch will be provided. To view via Zoom:
  https://yale.zoom.us/j/97802425935?pwd=GvEis7nm3OAFJ3zRbvJl405xuVvqa6.1\
 n\nSpeakers:\nJohn Kunstman\; Jonathan Cardella\n\nAdmission:\nFree\n\nFo
 od:\nLunch\n\nDetails URL:\nhttps://medicine.yale.edu/event/yale-cancer-c
 enter-grand-rounds-2025-2026-1-22/\n
DTEND;TZID=America/New_York:20260127T130000
DTSTAMP:20260421T061010Z
DTSTART;TZID=America/New_York:20260127T120000
LOCATION:Zoom will also be available.\, URL: https://yale.zoom.us/j/978024
 25935?pwd=GvEis7nm3OAFJ3zRbvJl405xuVvqa6.1
SEQUENCE:0
STATUS:Confirmed
SUMMARY:Yale Cancer Center Grand Rounds
UID:44908e95-bd4d-4d92-bf57-3f773af7fe5c
END:VEVENT
END:VCALENDAR
