BEGIN:VCALENDAR
PRODID:-//github.com/ical-org/ical.net//NONSGML ical.net 4.0//EN
VERSION:2.0
BEGIN:VTIMEZONE
TZID:America/New_York
X-LIC-LOCATION:America/New_York
BEGIN:STANDARD
DTSTART:20241103T020000
RRULE:FREQ=YEARLY;BYDAY=1SU;BYMONTH=11
TZNAME:EST
TZOFFSETFROM:-0400
TZOFFSETTO:-0500
END:STANDARD
BEGIN:DAYLIGHT
DTSTART:20250309T020000
RRULE:FREQ=YEARLY;BYDAY=2SU;BYMONTH=3
TZNAME:EDT
TZOFFSETFROM:-0500
TZOFFSETTO:-0400
END:DAYLIGHT
END:VTIMEZONE
BEGIN:VEVENT
DESCRIPTION:There is more to medical simulation than talking mannequins an
 d high-tech equipment. In this session\, we will discuss the educational 
 theory behind medical simulation and how to incorporate principles of sim
 ulation scenario design and simulation debriefing into other educational 
 modalities. Associated Clinician Educator Milestone: ETP 1 – Educational 
 Theory and Practice 1: Teaching and Facilitated Learning\n\nSpeakers:\nSa
 muel Buck\; Leigh Evans\n\nAdmission:\nFree\n\nDetails URL:\nhttps://medi
 cine.yale.edu/event/medg-med-sim-principles-copy/\n
DTEND;TZID=America/New_York:20260326T130000
DTSTAMP:20260420T143439Z
DTSTART;TZID=America/New_York:20260326T120000
LOCATION:URL: https://yale.zoom.us/j/7722423961
SEQUENCE:0
STATUS:Confirmed
SUMMARY:MEDG
UID:f9a25a47-fb9e-489a-9366-fdaa6b36fdce
END:VEVENT
END:VCALENDAR
