BEGIN:VCALENDAR
PRODID:-//github.com/ical-org/ical.net//NONSGML ical.net 4.0//EN
VERSION:2.0
BEGIN:VTIMEZONE
TZID:America/New_York
X-LIC-LOCATION:America/New_York
BEGIN:STANDARD
DTSTART:20241103T020000
RRULE:FREQ=YEARLY;BYDAY=1SU;BYMONTH=11
TZNAME:EST
TZOFFSETFROM:-0400
TZOFFSETTO:-0500
END:STANDARD
BEGIN:DAYLIGHT
DTSTART:20250309T020000
RRULE:FREQ=YEARLY;BYDAY=2SU;BYMONTH=3
TZNAME:EDT
TZOFFSETFROM:-0500
TZOFFSETTO:-0400
END:DAYLIGHT
END:VTIMEZONE
BEGIN:VEVENT
DESCRIPTION:This talk will offer practical\, easy-to-follow tips for creat
 ing and using audio-based podcasts to support your specific curricular ne
 eds. We will cover both the technical and creative basics\, with the goal
  of showing it can be much easier than it “sounds”—no prior experience ne
 cessary. We will also explore various ways to integrate podcasting into y
 our teaching. Associated Clinician Educator Milestone: ETP 1 – Educationa
 l Theory and Practice 1: Teaching and Facilitated Learning\n\nSpeaker:\nN
 ickolas Srica\n\nAdmission:\nFree\n\nDetails URL:\nhttps://medicine.yale.
 edu/event/medg-podcasts-copy/\n
DTEND;TZID=America/New_York:20260219T130000
DTSTAMP:20260421T124327Z
DTSTART;TZID=America/New_York:20260219T120000
LOCATION:URL: https://yale.zoom.us/j/7722423961
SEQUENCE:0
STATUS:Confirmed
SUMMARY:Medical Education Discussion Group (MEDG)
UID:cc3aa020-adec-45ba-85e1-477035ba1962
END:VEVENT
END:VCALENDAR
