BEGIN:VCALENDAR
PRODID:-//github.com/ical-org/ical.net//NONSGML ical.net 4.0//EN
VERSION:2.0
BEGIN:VTIMEZONE
TZID:America/New_York
X-LIC-LOCATION:America/New_York
BEGIN:STANDARD
DTSTART:20241103T020000
RRULE:FREQ=YEARLY;BYDAY=1SU;BYMONTH=11
TZNAME:EST
TZOFFSETFROM:-0400
TZOFFSETTO:-0500
END:STANDARD
BEGIN:DAYLIGHT
DTSTART:20250309T020000
RRULE:FREQ=YEARLY;BYDAY=2SU;BYMONTH=3
TZNAME:EDT
TZOFFSETFROM:-0500
TZOFFSETTO:-0400
END:DAYLIGHT
END:VTIMEZONE
BEGIN:VEVENT
DESCRIPTION:Ambulatory Applications of POCUS\n\nSpeakers:\nJoseph Donroe\;
  Andre Sofair\n\nAdmission:\nFree\n\nDetails URL:\nhttps://medicine.yale.
 edu/event/general-internal-medicine-grand-rounds-ambulatory-applications-
 of-pocus/\n
DTEND;TZID=America/New_York:20260219T083000
DTSTAMP:20260421T100213Z
DTSTART;TZID=America/New_York:20260219T073000
SEQUENCE:0
STATUS:Confirmed
SUMMARY:General Internal Medicine Grand Rounds: Ambulatory Applications of
  POCUS
UID:d482de0c-ec08-4f2b-833d-6e1928d8d4a4
END:VEVENT
END:VCALENDAR
