BEGIN:VCALENDAR
PRODID:-//github.com/ical-org/ical.net//NONSGML ical.net 4.0//EN
VERSION:2.0
BEGIN:VTIMEZONE
TZID:America/New_York
X-LIC-LOCATION:America/New_York
BEGIN:STANDARD
DTSTART:20241103T020000
RRULE:FREQ=YEARLY;BYDAY=1SU;BYMONTH=11
TZNAME:EST
TZOFFSETFROM:-0400
TZOFFSETTO:-0500
END:STANDARD
BEGIN:DAYLIGHT
DTSTART:20250309T020000
RRULE:FREQ=YEARLY;BYDAY=2SU;BYMONTH=3
TZNAME:EDT
TZOFFSETFROM:-0500
TZOFFSETTO:-0400
END:DAYLIGHT
END:VTIMEZONE
BEGIN:VEVENT
DESCRIPTION:All are welcome.\n\nAdmission:\nFree\n\nDetails URL:\nhttps://
 medicine.yale.edu/event/dermatology-grand-rounds-131/\n
DTEND;TZID=America/New_York:20260204T100000
DTSTAMP:20260421T110959Z
DTSTART;TZID=America/New_York:20260204T090000
GEO:41.302774;-72.935109
LOCATION:Fitkin Memorial Pavilion Auditorium\, 789 Howard Avenue\, New Hav
 en\, CT\, United States
SEQUENCE:0
STATUS:Confirmed
SUMMARY:Dermatology Grand Rounds
UID:d6ff12e0-2e0f-4901-9386-3bc275d5bf09
END:VEVENT
END:VCALENDAR
