BEGIN:VCALENDAR
PRODID:-//github.com/ical-org/ical.net//NONSGML ical.net 4.0//EN
VERSION:2.0
BEGIN:VTIMEZONE
TZID:America/New_York
X-LIC-LOCATION:America/New_York
BEGIN:STANDARD
DTSTART:20241103T020000
RRULE:FREQ=YEARLY;BYDAY=1SU;BYMONTH=11
TZNAME:EST
TZOFFSETFROM:-0400
TZOFFSETTO:-0500
END:STANDARD
BEGIN:DAYLIGHT
DTSTART:20250309T020000
RRULE:FREQ=YEARLY;BYDAY=2SU;BYMONTH=3
TZNAME:EDT
TZOFFSETFROM:-0500
TZOFFSETTO:-0400
END:DAYLIGHT
END:VTIMEZONE
BEGIN:VEVENT
DESCRIPTION:\nSpeaker:\nDan Minor\, PhD\n\nAdmission:\nFree\n\nFood:\nCoff
 ee\, Tea\n\nDetails URL:\nhttps://medicine.yale.edu/event/pharmacology-se
 minar-series-dan-minor/\n
DTEND;TZID=America/New_York:20260219T130000
DTSTAMP:20260421T110959Z
DTSTART;TZID=America/New_York:20260219T120000
GEO:41.302718;-72.934280
LOCATION:Brady Memorial Laboratory\, B131\, 310 Cedar Street\, New Haven\,
  CT\, United States
SEQUENCE:0
STATUS:Confirmed
SUMMARY:Yale Pharmacology Seminar Series
UID:f816b6e9-1736-4cd0-b09c-85e8c8a4538e
END:VEVENT
END:VCALENDAR
