BEGIN:VCALENDAR
PRODID:-//github.com/ical-org/ical.net//NONSGML ical.net 4.0//EN
VERSION:2.0
BEGIN:VTIMEZONE
TZID:America/New_York
X-LIC-LOCATION:America/New_York
BEGIN:STANDARD
DTSTART:20241103T020000
RRULE:FREQ=YEARLY;BYDAY=1SU;BYMONTH=11
TZNAME:EST
TZOFFSETFROM:-0400
TZOFFSETTO:-0500
END:STANDARD
BEGIN:DAYLIGHT
DTSTART:20250309T020000
RRULE:FREQ=YEARLY;BYDAY=2SU;BYMONTH=3
TZNAME:EDT
TZOFFSETFROM:-0500
TZOFFSETTO:-0400
END:DAYLIGHT
END:VTIMEZONE
BEGIN:VEVENT
DESCRIPTION:\nSpeakers:\nHannah Yin\; Nandhini Sadagopan\n\nAdmission:\nFr
 ee\n\nFood:\nLunch\n\nDetails URL:\nhttps://medicine.yale.edu/event/gener
 ip-fy26-24/\n
DTEND;TZID=America/New_York:20260223T140000
DTSTAMP:20260419T135049Z
DTSTART;TZID=America/New_York:20260223T130000
GEO:41.302200;-72.933362
LOCATION:Hope Memorial Building\, 110\, 315 Cedar Street\, New Haven\, CT\
 , United States
SEQUENCE:0
STATUS:Cancelled
SUMMARY:Genetics Research-In-Progress (RIP)
UID:bbac8a86-7016-46c9-ac62-58ed88a9da91
END:VEVENT
END:VCALENDAR
