BEGIN:VCALENDAR
PRODID:-//github.com/ical-org/ical.net//NONSGML ical.net 4.0//EN
VERSION:2.0
BEGIN:VTIMEZONE
TZID:America/New_York
X-LIC-LOCATION:America/New_York
BEGIN:STANDARD
DTSTART:20241103T020000
RRULE:FREQ=YEARLY;BYDAY=1SU;BYMONTH=11
TZNAME:EST
TZOFFSETFROM:-0400
TZOFFSETTO:-0500
END:STANDARD
BEGIN:DAYLIGHT
DTSTART:20250309T020000
RRULE:FREQ=YEARLY;BYDAY=2SU;BYMONTH=3
TZNAME:EDT
TZOFFSETFROM:-0500
TZOFFSETTO:-0400
END:DAYLIGHT
END:VTIMEZONE
BEGIN:VEVENT
DESCRIPTION:Hosted by Kevin Billingsley\, MD\, MBA\, and Toby Bressler\, P
 hD\, RN\, OCN\, FAAN. Join us in person in the Smilow Auditorium\, 55 Par
 k Street\, Second Floor\, or via Zoom.\n\nSpeakers:\nKevin Billingsley\; 
 Toby Bressler\n\nAdmission:\nFree\n\nDetails URL:\nhttps://medicine.yale.
 edu/event/smilow-town-hall-june-10-2026/\n
DTEND;TZID=America/New_York:20260610T130000
DTSTAMP:20260421T110959Z
DTSTART;TZID=America/New_York:20260610T120000
LOCATION:Join us on Zoom.\, URL: https://yale.zoom.us/j/91886972963?pwd=PZ
 uTpHnUQopjgx7LyADOLPt0jE2l7u.1
SEQUENCE:0
STATUS:Confirmed
SUMMARY:Smilow Town Hall - June 10\, 2026
UID:8f956fa3-494c-4004-8676-3b211787e9b1
END:VEVENT
END:VCALENDAR
