BEGIN:VCALENDAR
PRODID:-//github.com/ical-org/ical.net//NONSGML ical.net 4.0//EN
VERSION:2.0
BEGIN:VTIMEZONE
TZID:America/New_York
X-LIC-LOCATION:America/New_York
BEGIN:STANDARD
DTSTART:20241103T020000
RRULE:FREQ=YEARLY;BYDAY=1SU;BYMONTH=11
TZNAME:EST
TZOFFSETFROM:-0400
TZOFFSETTO:-0500
END:STANDARD
BEGIN:DAYLIGHT
DTSTART:20250309T020000
RRULE:FREQ=YEARLY;BYDAY=2SU;BYMONTH=3
TZNAME:EDT
TZOFFSETFROM:-0500
TZOFFSETTO:-0400
END:DAYLIGHT
END:VTIMEZONE
BEGIN:VEVENT
DESCRIPTION:Multiple Sclerosis (MS) remains one of the most common neurolo
 gical diseases causing disability in young adults\, affecting over one mi
 llion people in the United States. As our understanding of MS advances\, 
 new approaches to managing the condition have emerged. Recent years have 
 brought substantial progress in defining disease phenotypes\, refining tr
 eatment strategies\, and enhancing imaging techniques. This hybrid sympos
 ium\, available both in-person and virtually\, will equip providers with 
 the latest insights to improve clinical care and outcomes for young adult
 s and others affected by MS. “Meet the Experts” Reception - Wednesday\, M
 ay 7\, 5-7 p.m. We invite all registered attendees to join us for the “Me
 et the Experts” Reception on the evening before the 2025 Updates in Multi
 ple Sclerosis Symposium\, Wednesday\, May 7\, 2025\, from 5–7 p.m. at Hom
 ewood Suites\, Orange\, CT. Enjoy hors d'oeuvres and complimentary beer a
 nd wine while networking with distinguished speakers and key opinion lead
 ers in the field of multiple sclerosis. This is a fantastic opportunity t
 o connect with speakers and fellow attendees ahead of the symposium. Plea
 se note if you will be attending in your registration.\n\nSpeakers:\nAaro
 n Bower\; David Hafler\; Erin Longbrake\; Annalisa Morgan\; Peter A. Cala
 bresi\, MD\; Maria Houtchens\, MD\; Ellen Mowry\, MD\; Darin Okuda\, MD\;
  Daniel S. Reich\, MD\, PhD\; Bruce Trapp\, PhD\n\nAdmission:\nRegistrati
 onFees: https://yale.cloud-cme.com/course/courseoverview?P=5&EID=48143\n\
 nDetails URL:\nhttps://medicine.yale.edu/event/updates-in-the-field-of-mu
 ltiple-sclerosis-2025/\n
DTEND;TZID=America/New_York:20250508T163000
DTSTAMP:20260421T003951Z
DTSTART;TZID=America/New_York:20250508T080000
GEO:41.258344;-72.989353
LOCATION:West Campus Conference Center\, 800 West Campus Drive\, West Have
 n\, CT\, United States
SEQUENCE:0
STATUS:Confirmed
SUMMARY:Updates in the Field of Multiple Sclerosis 2025
UID:29a13f22-c904-4f05-8341-410f190e6e2e
END:VEVENT
END:VCALENDAR
