BEGIN:VCALENDAR
PRODID:-//github.com/ical-org/ical.net//NONSGML ical.net 4.0//EN
VERSION:2.0
BEGIN:VTIMEZONE
TZID:America/New_York
X-LIC-LOCATION:America/New_York
BEGIN:STANDARD
DTSTART:20241103T020000
RRULE:FREQ=YEARLY;BYDAY=1SU;BYMONTH=11
TZNAME:EST
TZOFFSETFROM:-0400
TZOFFSETTO:-0500
END:STANDARD
BEGIN:DAYLIGHT
DTSTART:20250309T020000
RRULE:FREQ=YEARLY;BYDAY=2SU;BYMONTH=3
TZNAME:EDT
TZOFFSETFROM:-0500
TZOFFSETTO:-0400
END:DAYLIGHT
END:VTIMEZONE
BEGIN:VEVENT
DESCRIPTION:\nAdmission:\nFree\n\nDetails URL:\nhttps://medicine.yale.edu/
 event/scientific-poster-session-2025/\n
DTEND;TZID=America/New_York:20250506T133000
DTSTAMP:20260421T100045Z
DTSTART;TZID=America/New_York:20250506T123000
GEO:41.301420;-72.933837
LOCATION:The Anlyan Center\, 300 Cedar Street\, New Haven\, CT\, United St
 ates
SEQUENCE:0
STATUS:Confirmed
SUMMARY:Scientific Poster Session
UID:14a661ab-f07f-4b0a-9f48-c2bf64ecfcbf
END:VEVENT
END:VCALENDAR
