BEGIN:VCALENDAR
PRODID:-//github.com/ical-org/ical.net//NONSGML ical.net 4.0//EN
VERSION:2.0
BEGIN:VTIMEZONE
TZID:America/New_York
X-LIC-LOCATION:America/New_York
BEGIN:STANDARD
DTSTART:20241103T020000
RRULE:FREQ=YEARLY;BYDAY=1SU;BYMONTH=11
TZNAME:EST
TZOFFSETFROM:-0400
TZOFFSETTO:-0500
END:STANDARD
BEGIN:DAYLIGHT
DTSTART:20250309T020000
RRULE:FREQ=YEARLY;BYDAY=2SU;BYMONTH=3
TZNAME:EDT
TZOFFSETFROM:-0500
TZOFFSETTO:-0400
END:DAYLIGHT
END:VTIMEZONE
BEGIN:VEVENT
DESCRIPTION:Registration is required. Click here to register. Wonder why s
 ome posters are more effective than others? Want to learn how to create b
 etter flyers\, slides\, and other graphics? In this workshop\, you will l
 earn tips and tricks for creating effective and engaging graphics. Partic
 ipants will learn the fundamentals of good design and come away with a li
 st of free tools for upping your design game. Registration is required. Y
 our Zoom username must match your registration.\n\nSpeaker:\nDana Haugh\n
 \nAdmission:\nFree: Open\; Registration is required.\n\nDetails URL:\nhtt
 ps://medicine.yale.edu/event/create-better-visuals-online/\n
DTEND;TZID=America/New_York:20250514T144500
DTSTAMP:20260420T202945Z
DTSTART;TZID=America/New_York:20250514T140000
LOCATION:URL: https://yale.zoom.us/j/5625306632
SEQUENCE:0
STATUS:Confirmed
SUMMARY:Design Basics: How to Create Better Visuals (Online)
UID:78874767-b10a-4c6a-b0d5-808f32934ab5
END:VEVENT
END:VCALENDAR
