BEGIN:VCALENDAR
PRODID:-//github.com/ical-org/ical.net//NONSGML ical.net 4.0//EN
VERSION:2.0
BEGIN:VTIMEZONE
TZID:America/New_York
X-LIC-LOCATION:America/New_York
BEGIN:STANDARD
DTSTART:20241103T020000
RRULE:FREQ=YEARLY;BYDAY=1SU;BYMONTH=11
TZNAME:EST
TZOFFSETFROM:-0400
TZOFFSETTO:-0500
END:STANDARD
BEGIN:DAYLIGHT
DTSTART:20250309T020000
RRULE:FREQ=YEARLY;BYDAY=2SU;BYMONTH=3
TZNAME:EDT
TZOFFSETFROM:-0500
TZOFFSETTO:-0400
END:DAYLIGHT
END:VTIMEZONE
BEGIN:VEVENT
DESCRIPTION:http://wnpr.org/programs/yale-cancer-answers For additional in
 formation and direction about your diagnosis and/or treatment options\, p
 lease call 1-855-4-SMILOW.\n\nSpeaker:\nAmer Zeidan\n\nAdmission:\nFree\n
 \nDetails URL:\nhttps://medicine.yale.edu/event/yale-cancer-answers-383/\
 n
DTEND;TZID=America/New_York:20250427T200000
DTSTAMP:20260419T135048Z
DTSTART;TZID=America/New_York:20250427T193000
LOCATION:WNPR 90.5
SEQUENCE:0
STATUS:Confirmed
SUMMARY:Yale Cancer Answers: Novel Treatments for Blood Cancers
UID:5effbd1e-9a00-4d71-a26d-3e7ab0eaa508
END:VEVENT
END:VCALENDAR
