BEGIN:VCALENDAR
PRODID:-//github.com/ical-org/ical.net//NONSGML ical.net 4.0//EN
VERSION:2.0
BEGIN:VTIMEZONE
TZID:America/New_York
X-LIC-LOCATION:America/New_York
BEGIN:STANDARD
DTSTART:20241103T020000
RRULE:FREQ=YEARLY;BYDAY=1SU;BYMONTH=11
TZNAME:EST
TZOFFSETFROM:-0400
TZOFFSETTO:-0500
END:STANDARD
BEGIN:DAYLIGHT
DTSTART:20250309T020000
RRULE:FREQ=YEARLY;BYDAY=2SU;BYMONTH=3
TZNAME:EDT
TZOFFSETFROM:-0500
TZOFFSETTO:-0400
END:DAYLIGHT
END:VTIMEZONE
BEGIN:VEVENT
DESCRIPTION:Rescheduled from Jan. 27\, due to weather complications\, this
  talk will explore lessons of healing\, learning\, and acting as a leader
  across various roles while seeking to build a healthier Greater New Have
 n. Participants will learn about an approach to people-centered leadershi
 p that spans academic\, public\, and private sector settings. Integrating
  knowledge of child development with community development efforts will a
 lso be addressed\, along with the exploration of what it takes to create 
 thriving communities. This session is part of the 2025-2026 leadership-fo
 cused grand rounds special lecture series\, Exploring and Enhancing Leade
 rship in the Academy. The goal of this series is to provide an open forum
  with leaders who are committed to principles of collaboration and servic
 e\, at Yale School of Medicine and beyond.\n\nSpeaker:\nKaren DuBois-Walt
 on\, PhD\n\nAdmission:\nFree\n\nDetails URL:\nhttps://medicine.yale.edu/e
 vent/ycsc-grand-rounds-tbd-25/\n
DTEND;TZID=America/New_York:20260224T140000
DTSTAMP:20260425T013704Z
DTSTART;TZID=America/New_York:20260224T130000
SEQUENCE:0
STATUS:Confirmed
SUMMARY:YCSC Grand Rounds—On Leadership
UID:2183456f-e2e4-40c2-a0f3-e50f7eef848c
END:VEVENT
END:VCALENDAR
