BEGIN:VCALENDAR
PRODID:-//github.com/ical-org/ical.net//NONSGML ical.net 4.0//EN
VERSION:2.0
BEGIN:VTIMEZONE
TZID:America/New_York
X-LIC-LOCATION:America/New_York
BEGIN:STANDARD
DTSTART:20241103T020000
RRULE:FREQ=YEARLY;BYDAY=1SU;BYMONTH=11
TZNAME:EST
TZOFFSETFROM:-0400
TZOFFSETTO:-0500
END:STANDARD
BEGIN:DAYLIGHT
DTSTART:20250309T020000
RRULE:FREQ=YEARLY;BYDAY=2SU;BYMONTH=3
TZNAME:EDT
TZOFFSETFROM:-0500
TZOFFSETTO:-0400
END:DAYLIGHT
END:VTIMEZONE
BEGIN:VEVENT
DESCRIPTION:\nSpeakers:\nChunyan Wang\; Qinqin Zhao \n\nAdmission:\nFree\n
 \nFood:\nCoffee\, Tea\n\nDetails URL:\nhttps://medicine.yale.edu/event/25
 -26-microbiology-pre-doctoral-and-post-doctoral-research-in-progress-semi
 nar-series-29/\n
DTEND;TZID=America/New_York:20260323T163000
DTSTAMP:20260426T003611Z
DTSTART;TZID=America/New_York:20260323T153000
GEO:41.302200;-72.933362
LOCATION:Hope Memorial Building\, 216\, 315 Cedar Street\, New Haven\, CT\
 , United States
SEQUENCE:0
STATUS:Confirmed
SUMMARY:25-26 Microbiology Pre-Doctoral and Post-Doctoral Research in Prog
 ress Seminar Series
UID:99f85b23-e1a7-491e-bc0e-e29f6cd8cfb6
END:VEVENT
END:VCALENDAR
