BEGIN:VCALENDAR
PRODID:-//github.com/ical-org/ical.net//NONSGML ical.net 4.0//EN
VERSION:2.0
BEGIN:VTIMEZONE
TZID:America/New_York
X-LIC-LOCATION:America/New_York
BEGIN:STANDARD
DTSTART:20241103T020000
RRULE:FREQ=YEARLY;BYDAY=1SU;BYMONTH=11
TZNAME:EST
TZOFFSETFROM:-0400
TZOFFSETTO:-0500
END:STANDARD
BEGIN:DAYLIGHT
DTSTART:20250309T020000
RRULE:FREQ=YEARLY;BYDAY=2SU;BYMONTH=3
TZNAME:EDT
TZOFFSETFROM:-0500
TZOFFSETTO:-0400
END:DAYLIGHT
END:VTIMEZONE
BEGIN:VEVENT
DESCRIPTION:*NEW DATE! Rescheduled from March 6* "ROS1-Driven Cancers: Bio
 logy\, Targeted Therapies\, and Resistance Challenges" by Monika Davare\,
  PhD\, Oregon Health & Science University\n\nSpeaker:\nMonika Davare\, Ph
 D\n\nAdmission:\nFree\n\nFood:\nCoffee\, Tea\n\nDetails URL:\nhttps://med
 icine.yale.edu/event/yale-cancer-biology-institute-seminar-series-monika-
 davare-phd/\n
DTEND;TZID=America/New_York:20260626T160000
DTSTAMP:20260426T013411Z
DTSTART;TZID=America/New_York:20260626T150000
GEO:41.256918;-72.989699
LOCATION:West Campus Advanced Biosciences Center\, 373 Conference Rm\, 840
  West Campus Drive\, West Haven\, CT\, United States
SEQUENCE:0
STATUS:Confirmed
SUMMARY:Yale Cancer Biology Institute Seminar Series Presents "ROS1-Driven
  Cancers: Biology\, Targeted Therapies\, and Resistance Challenges"
UID:e0299e3a-8763-434b-ab54-584ea5843992
END:VEVENT
END:VCALENDAR
