BEGIN:VCALENDAR
PRODID:-//github.com/ical-org/ical.net//NONSGML ical.net 4.0//EN
VERSION:2.0
BEGIN:VTIMEZONE
TZID:America/New_York
X-LIC-LOCATION:America/New_York
BEGIN:STANDARD
DTSTART:20241103T020000
RRULE:FREQ=YEARLY;BYDAY=1SU;BYMONTH=11
TZNAME:EST
TZOFFSETFROM:-0400
TZOFFSETTO:-0500
END:STANDARD
BEGIN:DAYLIGHT
DTSTART:20250309T020000
RRULE:FREQ=YEARLY;BYDAY=2SU;BYMONTH=3
TZNAME:EDT
TZOFFSETFROM:-0500
TZOFFSETTO:-0400
END:DAYLIGHT
END:VTIMEZONE
BEGIN:VEVENT
DESCRIPTION:http://wnpr.org/programs/yale-cancer-answers For additional in
 formation and direction about your diagnosis and/or treatment options\, p
 lease call 1-855-4-SMILOW.\n\nSpeaker:\nCameron\, Brendan\, and Jessica W
 ilson\n\nAdmission:\nFree\n\nDetails URL:\nhttps://medicine.yale.edu/even
 t/yale-cancer-answers-388/\n
DTEND;TZID=America/New_York:20250601T200000
DTSTAMP:20260423T154553Z
DTSTART;TZID=America/New_York:20250601T193000
LOCATION:WNPR 90.5
SEQUENCE:0
STATUS:Confirmed
SUMMARY:Yale Cancer Answers: National Cancer Survivor Day
UID:be3acf3d-82c8-469e-bef4-553b60963aeb
END:VEVENT
END:VCALENDAR
