BEGIN:VCALENDAR
PRODID:-//github.com/ical-org/ical.net//NONSGML ical.net 4.0//EN
VERSION:2.0
BEGIN:VTIMEZONE
TZID:America/New_York
X-LIC-LOCATION:America/New_York
BEGIN:STANDARD
DTSTART:20241103T020000
RRULE:FREQ=YEARLY;BYDAY=1SU;BYMONTH=11
TZNAME:EST
TZOFFSETFROM:-0400
TZOFFSETTO:-0500
END:STANDARD
BEGIN:DAYLIGHT
DTSTART:20250309T020000
RRULE:FREQ=YEARLY;BYDAY=2SU;BYMONTH=3
TZNAME:EDT
TZOFFSETFROM:-0500
TZOFFSETTO:-0400
END:DAYLIGHT
END:VTIMEZONE
BEGIN:VEVENT
DESCRIPTION:\nSpeaker:\nMireille Serlie\n\nAdmission:\nFree\n\nDetails URL
 :\nhttps://medicine.yale.edu/event/diabetes-conference25-26-1/\n
DTEND;TZID=America/New_York:20250918T170000
DTSTAMP:20260425T081814Z
DTSTART;TZID=America/New_York:20250918T160000
RECURRENCE-ID;TZID=America/New_York:20250918T160000
SEQUENCE:0
STATUS:Confirmed
SUMMARY:Diabetes Conference
UID:54620dc3-aa93-4083-a252-b08ea3f95336
END:VEVENT
BEGIN:VEVENT
DESCRIPTION:\nSpeaker:\nBrian Wojeck\n\nAdmission:\nFree\n\nDetails URL:\n
 https://medicine.yale.edu/event/diabetes-conference25-26-2/\n
DTEND;TZID=America/New_York:20251016T170000
DTSTAMP:20260425T081814Z
DTSTART;TZID=America/New_York:20251016T160000
RECURRENCE-ID;TZID=America/New_York:20251016T160000
SEQUENCE:0
STATUS:Confirmed
SUMMARY:Diabetes Conference
UID:54620dc3-aa93-4083-a252-b08ea3f95336
END:VEVENT
BEGIN:VEVENT
DESCRIPTION:\nSpeakers:\nCaroline Briggs\, APRN\; Karen Mcavoy\, APRN\n\nA
 dmission:\nFree\n\nDetails URL:\nhttps://medicine.yale.edu/event/diabetes
 -conference25-26-3/\n
DTEND;TZID=America/New_York:20251120T170000
DTSTAMP:20260425T081814Z
DTSTART;TZID=America/New_York:20251120T160000
RECURRENCE-ID;TZID=America/New_York:20251120T160000
SEQUENCE:0
STATUS:Confirmed
SUMMARY:Diabetes Conference
UID:54620dc3-aa93-4083-a252-b08ea3f95336
END:VEVENT
BEGIN:VEVENT
DESCRIPTION:\nAdmission:\nFree\n\nDetails URL:\nhttps://medicine.yale.edu/
 event/diabetes-conference25-26-4/\n
DTEND;TZID=America/New_York:20251218T170000
DTSTAMP:20260425T081814Z
DTSTART;TZID=America/New_York:20251218T160000
GEO:41.302774;-72.935109
LOCATION:Fitkin Memorial Pavilion\, 132\, 789 Howard Avenue\, New Haven\, 
 CT\, United States
RECURRENCE-ID;TZID=America/New_York:20251218T160000
SEQUENCE:0
STATUS:Cancelled
SUMMARY:Diabetes Conference
UID:54620dc3-aa93-4083-a252-b08ea3f95336
END:VEVENT
BEGIN:VEVENT
DESCRIPTION:\nSpeaker:\nMireille Serlie\n\nAdmission:\nFree\n\nDetails URL
 :\nhttps://medicine.yale.edu/event/diabetes-conference25-26-5/\n
DTEND;TZID=America/New_York:20260115T170000
DTSTAMP:20260425T081814Z
DTSTART;TZID=America/New_York:20260115T160000
GEO:41.302774;-72.935109
LOCATION:Fitkin Memorial Pavilion\, 132\, 789 Howard Avenue\, New Haven\, 
 CT\, United States
RECURRENCE-ID;TZID=America/New_York:20260115T160000
SEQUENCE:0
STATUS:Confirmed
SUMMARY:Diabetes Conference
UID:54620dc3-aa93-4083-a252-b08ea3f95336
END:VEVENT
BEGIN:VEVENT
DESCRIPTION:\nSpeakers:\nDiana Schumitz\, PA\; Laurel Brandon\, APRN\n\nAd
 mission:\nFree\n\nDetails URL:\nhttps://medicine.yale.edu/event/diabetes-
 conference25-26-6/\n
DTEND;TZID=America/New_York:20260219T170000
DTSTAMP:20260425T081814Z
DTSTART;TZID=America/New_York:20260219T160000
GEO:41.302774;-72.935109
LOCATION:Fitkin Memorial Pavilion\, 132\, 789 Howard Avenue\, New Haven\, 
 CT\, United States
RECURRENCE-ID;TZID=America/New_York:20260219T160000
SEQUENCE:0
STATUS:Confirmed
SUMMARY:Diabetes Conference
UID:54620dc3-aa93-4083-a252-b08ea3f95336
END:VEVENT
BEGIN:VEVENT
DESCRIPTION:\nSpeaker:\nPriyadarshini Balasubramanian\n\nAdmission:\nFree\
 n\nDetails URL:\nhttps://medicine.yale.edu/event/diabetes-conference25-26
 -7/\n
DTEND;TZID=America/New_York:20260319T170000
DTSTAMP:20260425T081814Z
DTSTART;TZID=America/New_York:20260319T160000
GEO:41.302774;-72.935109
LOCATION:Fitkin Memorial Pavilion\, 132\, 789 Howard Avenue\, New Haven\, 
 CT\, United States
RECURRENCE-ID;TZID=America/New_York:20260319T160000
SEQUENCE:0
STATUS:Confirmed
SUMMARY:Diabetes Conference
UID:54620dc3-aa93-4083-a252-b08ea3f95336
END:VEVENT
BEGIN:VEVENT
DESCRIPTION:\nSpeakers:\nSpyridon Ntelis\; Guy Sydney\n\nAdmission:\nFree\
 n\nDetails URL:\nhttps://medicine.yale.edu/event/diabetes-conference25-26
 -8/\n
DTEND;TZID=America/New_York:20260416T170000
DTSTAMP:20260425T081814Z
DTSTART;TZID=America/New_York:20260416T160000
GEO:41.302774;-72.935109
LOCATION:Fitkin Memorial Pavilion\, 132\, 789 Howard Avenue\, New Haven\, 
 CT\, United States
RECURRENCE-ID;TZID=America/New_York:20260416T160000
SEQUENCE:0
STATUS:Confirmed
SUMMARY:Diabetes Conference
UID:54620dc3-aa93-4083-a252-b08ea3f95336
END:VEVENT
BEGIN:VEVENT
DESCRIPTION:\nSpeaker:\nPriyadarshini Balasubramanian\n\nAdmission:\nFree\
 n\nDetails URL:\nhttps://medicine.yale.edu/event/diabetes-conference25-26
 -9/\n
DTEND;TZID=America/New_York:20260521T170000
DTSTAMP:20260425T081814Z
DTSTART;TZID=America/New_York:20260521T160000
GEO:41.302774;-72.935109
LOCATION:Fitkin Memorial Pavilion\, 132\, 789 Howard Avenue\, New Haven\, 
 CT\, United States
RECURRENCE-ID;TZID=America/New_York:20260521T160000
SEQUENCE:0
STATUS:Confirmed
SUMMARY:Diabetes Conference
UID:54620dc3-aa93-4083-a252-b08ea3f95336
END:VEVENT
BEGIN:VEVENT
DESCRIPTION:\nAdmission:\nFree\n\nDetails URL:\nhttps://medicine.yale.edu/
 event/diabetes-conference25-26-10/\n
DTEND;TZID=America/New_York:20260618T170000
DTSTAMP:20260425T081814Z
DTSTART;TZID=America/New_York:20260618T160000
GEO:41.302774;-72.935109
LOCATION:Fitkin Memorial Pavilion\, 132\, 789 Howard Avenue\, New Haven\, 
 CT\, United States
RECURRENCE-ID;TZID=America/New_York:20260618T160000
SEQUENCE:0
STATUS:Cancelled
SUMMARY:Diabetes Conference
UID:54620dc3-aa93-4083-a252-b08ea3f95336
END:VEVENT
BEGIN:VEVENT
DESCRIPTION:\nAdmission:\nFree\n
DTEND;TZID=America/New_York:20250918T170000
DTSTAMP:20260425T081814Z
DTSTART;TZID=America/New_York:20250918T160000
GEO:41.302774;-72.935109
LOCATION:Fitkin Memorial Pavilion\, 132\, 789 Howard Avenue\, New Haven\, 
 CT\, United States
RRULE:FREQ=MONTHLY;UNTIL=20260701T035959Z;BYDAY=3TH
SEQUENCE:0
STATUS:Confirmed
SUMMARY:Diabetes Conference
UID:54620dc3-aa93-4083-a252-b08ea3f95336
END:VEVENT
END:VCALENDAR
