BEGIN:VCALENDAR
PRODID:-//github.com/ical-org/ical.net//NONSGML ical.net 4.0//EN
VERSION:2.0
BEGIN:VTIMEZONE
TZID:America/New_York
X-LIC-LOCATION:America/New_York
BEGIN:STANDARD
DTSTART:20241103T020000
RRULE:FREQ=YEARLY;BYDAY=1SU;BYMONTH=11
TZNAME:EST
TZOFFSETFROM:-0400
TZOFFSETTO:-0500
END:STANDARD
BEGIN:DAYLIGHT
DTSTART:20250309T020000
RRULE:FREQ=YEARLY;BYDAY=2SU;BYMONTH=3
TZNAME:EDT
TZOFFSETFROM:-0500
TZOFFSETTO:-0400
END:DAYLIGHT
END:VTIMEZONE
BEGIN:VEVENT
DESCRIPTION:\nSpeaker:\nDaniel Weinberger\n\nAdmission:\nFree\n\nFood:\nLu
 nch: Lunch is served prior to the conference\, starting at 11:50AM.\n\nDe
 tails URL:\nhttps://medicine.yale.edu/event/pccsm-weekly-research-confere
 nce-2/\n
DTEND;TZID=America/New_York:20260129T130000
DTSTAMP:20260424T150202Z
DTSTART;TZID=America/New_York:20260129T120000
LOCATION:URL: https://yalepccsm.com/PRC
RECURRENCE-ID;TZID=America/New_York:20260129T120000
SEQUENCE:0
STATUS:Confirmed
SUMMARY:PCCSM Research Conference
UID:60708cb0-30f8-43ad-99be-97f3050ca999
END:VEVENT
BEGIN:VEVENT
DESCRIPTION:\nSpeaker:\nClemente Britto-Leon\n\nAdmission:\nFree\n\nFood:\
 nLunch: Lunch is served prior to the conference\, starting at 11:50AM.\n\
 nDetails URL:\nhttps://medicine.yale.edu/event/pccsm-weekly-research-conf
 erence-3/\n
DTEND;TZID=America/New_York:20260205T130000
DTSTAMP:20260424T150202Z
DTSTART;TZID=America/New_York:20260205T120000
LOCATION:URL: https://yalepccsm.com/PRC
RECURRENCE-ID;TZID=America/New_York:20260205T120000
SEQUENCE:0
STATUS:Confirmed
SUMMARY:PCCSM Research Conference
UID:60708cb0-30f8-43ad-99be-97f3050ca999
END:VEVENT
BEGIN:VEVENT
DESCRIPTION:\nSpeaker:\nShannon Kay\n\nAdmission:\nFree\n\nFood:\nLunch: L
 unch is served prior to the conference\, starting at 11:50AM.\n\nDetails 
 URL:\nhttps://medicine.yale.edu/event/pccsm-weekly-research-conference-4/
 \n
DTEND;TZID=America/New_York:20260212T130000
DTSTAMP:20260424T150202Z
DTSTART;TZID=America/New_York:20260212T120000
LOCATION:URL: https://yalepccsm.com/PRC
RECURRENCE-ID;TZID=America/New_York:20260212T120000
SEQUENCE:0
STATUS:Confirmed
SUMMARY:PCCSM Research Conference
UID:60708cb0-30f8-43ad-99be-97f3050ca999
END:VEVENT
BEGIN:VEVENT
DESCRIPTION:\nSpeaker:\nCraig Wilen\n\nAdmission:\nFree\n\nFood:\nLunch: L
 unch is served prior to the conference\, starting at 11:50AM.\n\nDetails 
 URL:\nhttps://medicine.yale.edu/event/pccsm-weekly-research-conference-6/
 \n
DTEND;TZID=America/New_York:20260226T130000
DTSTAMP:20260424T150202Z
DTSTART;TZID=America/New_York:20260226T120000
LOCATION:URL: https://yalepccsm.com/PRC
RECURRENCE-ID;TZID=America/New_York:20260226T120000
SEQUENCE:0
STATUS:Confirmed
SUMMARY:PCCSM Research Conference
UID:60708cb0-30f8-43ad-99be-97f3050ca999
END:VEVENT
BEGIN:VEVENT
DESCRIPTION:\nSpeaker:\nMelissa Knauert\n\nAdmission:\nFree\n\nFood:\nLunc
 h: Lunch is served prior to the conference\, starting at 11:50AM.\n\nDeta
 ils URL:\nhttps://medicine.yale.edu/event/pccsm-weekly-research-conferenc
 e-7/\n
DTEND;TZID=America/New_York:20260305T130000
DTSTAMP:20260424T150202Z
DTSTART;TZID=America/New_York:20260305T120000
LOCATION:URL: https://yalepccsm.com/PRC
RECURRENCE-ID;TZID=America/New_York:20260305T120000
SEQUENCE:0
STATUS:Confirmed
SUMMARY:PCCSM Research Conference
UID:60708cb0-30f8-43ad-99be-97f3050ca999
END:VEVENT
BEGIN:VEVENT
DESCRIPTION:\nSpeaker:\nAnica Law\n\nAdmission:\nFree\n\nFood:\nLunch: Lun
 ch is served prior to the conference\, starting at 11:50AM.\n\nDetails UR
 L:\nhttps://medicine.yale.edu/event/pccsm-weekly-research-conference-8/\n
DTEND;TZID=America/New_York:20260312T130000
DTSTAMP:20260424T150202Z
DTSTART;TZID=America/New_York:20260312T120000
LOCATION:URL: https://yalepccsm.com/PRC
RECURRENCE-ID;TZID=America/New_York:20260312T120000
SEQUENCE:0
STATUS:Confirmed
SUMMARY:PCCSM Research Conference
UID:60708cb0-30f8-43ad-99be-97f3050ca999
END:VEVENT
BEGIN:VEVENT
DESCRIPTION:\nSpeaker:\nIlana Richman\n\nAdmission:\nFree\n\nFood:\nLunch:
  Lunch is served prior to the conference\, starting at 11:50AM.\n\nDetail
 s URL:\nhttps://medicine.yale.edu/event/pccsm-weekly-research-conference-
 9/\n
DTEND;TZID=America/New_York:20260319T130000
DTSTAMP:20260424T150202Z
DTSTART;TZID=America/New_York:20260319T120000
GEO:41.301420;-72.933837
LOCATION:The Anlyan Center\, 447\, 300 Cedar Street\, New Haven\, CT\, Uni
 ted States
RECURRENCE-ID;TZID=America/New_York:20260319T120000
SEQUENCE:0
STATUS:Confirmed
SUMMARY:PCCSM Research Conference: "The Paradox of Lung Cancer Screening: 
 Why an Effective Screening Test is Persistently Underused and What Can Be
  Done"
UID:60708cb0-30f8-43ad-99be-97f3050ca999
END:VEVENT
BEGIN:VEVENT
DESCRIPTION:\nSpeaker:\nJuan C. Celedon\, MD\, DrPH\, ATSF\n\nAdmission:\n
 Free\n\nFood:\nLunch: Lunch is served prior to the conference\, starting 
 at 11:50AM.\n\nDetails URL:\nhttps://medicine.yale.edu/event/pccsm-weekly
 -research-conference-10/\n
DTEND;TZID=America/New_York:20260326T130000
DTSTAMP:20260424T150202Z
DTSTART;TZID=America/New_York:20260326T120000
LOCATION:URL: https://yalepccsm.com/PRC
RECURRENCE-ID;TZID=America/New_York:20260326T120000
SEQUENCE:0
STATUS:Confirmed
SUMMARY:PCCSM Research Conference
UID:60708cb0-30f8-43ad-99be-97f3050ca999
END:VEVENT
BEGIN:VEVENT
DESCRIPTION:\nSpeaker:\nInderjit Singh\n\nAdmission:\nFree\n\nFood:\nLunch
 : Lunch is served prior to the conference\, starting at 11:50AM.\n\nDetai
 ls URL:\nhttps://medicine.yale.edu/event/pccsm-weekly-research-conference
 -12/\n
DTEND;TZID=America/New_York:20260409T130000
DTSTAMP:20260424T150202Z
DTSTART;TZID=America/New_York:20260409T120000
LOCATION:URL: https://yalepccsm.com/PRC
RECURRENCE-ID;TZID=America/New_York:20260409T120000
SEQUENCE:0
STATUS:Confirmed
SUMMARY:PCCSM Research Conference
UID:60708cb0-30f8-43ad-99be-97f3050ca999
END:VEVENT
BEGIN:VEVENT
DESCRIPTION:\nSpeaker:\nHannah Wunsch\n\nAdmission:\nFree\n\nFood:\nLunch:
  Lunch is served prior to the conference\, starting at 11:50AM.\n\nDetail
 s URL:\nhttps://medicine.yale.edu/event/pccsm-weekly-research-conference-
 14/\n
DTEND;TZID=America/New_York:20260423T130000
DTSTAMP:20260424T150202Z
DTSTART;TZID=America/New_York:20260423T120000
LOCATION:URL: https://yalepccsm.com/PRC
RECURRENCE-ID;TZID=America/New_York:20260423T120000
SEQUENCE:0
STATUS:Confirmed
SUMMARY:PCCSM Research Conference
UID:60708cb0-30f8-43ad-99be-97f3050ca999
END:VEVENT
BEGIN:VEVENT
DESCRIPTION:\nSpeaker:\nGeorgios D. Kitsios\n\nAdmission:\nFree\n\nFood:\n
 Lunch: Lunch is served prior to the conference\, starting at 11:50AM.\n\n
 Details URL:\nhttps://medicine.yale.edu/event/pccsm-weekly-research-confe
 rence-15/\n
DTEND;TZID=America/New_York:20260430T130000
DTSTAMP:20260424T150202Z
DTSTART;TZID=America/New_York:20260430T120000
LOCATION:URL: https://yalepccsm.com/PRC
RECURRENCE-ID;TZID=America/New_York:20260430T120000
SEQUENCE:0
STATUS:Confirmed
SUMMARY:PCCSM Research Conference: "ARDS Phenotypes and the Microbiome: In
 tegrating Host Response and Microbial Dynamics in Critical Illness"
UID:60708cb0-30f8-43ad-99be-97f3050ca999
END:VEVENT
BEGIN:VEVENT
DESCRIPTION:\nSpeaker:\nRod Rahimi\n\nAdmission:\nFree\n\nFood:\nLunch: Lu
 nch is served prior to the conference\, starting at 11:50AM.\n\nDetails U
 RL:\nhttps://medicine.yale.edu/event/pccsm-weekly-research-conference-16/
 \n
DTEND;TZID=America/New_York:20260507T130000
DTSTAMP:20260424T150202Z
DTSTART;TZID=America/New_York:20260507T120000
LOCATION:URL: https://yalepccsm.com/PRC
RECURRENCE-ID;TZID=America/New_York:20260507T120000
SEQUENCE:0
STATUS:Confirmed
SUMMARY:PCCSM Research Conference - Regulatory T Cell Control of Allergic 
 Asthma
UID:60708cb0-30f8-43ad-99be-97f3050ca999
END:VEVENT
BEGIN:VEVENT
DESCRIPTION:\nSpeaker:\nHallie Prescott\n\nAdmission:\nFree\n\nFood:\nLunc
 h: Lunch is served prior to the conference\, starting at 11:50AM.\n\nDeta
 ils URL:\nhttps://medicine.yale.edu/event/pccsm-weekly-research-conferenc
 e-19/\n
DTEND;TZID=America/New_York:20260528T130000
DTSTAMP:20260424T150202Z
DTSTART;TZID=America/New_York:20260528T120000
LOCATION:URL: https://yalepccsm.com/PRC
RECURRENCE-ID;TZID=America/New_York:20260528T120000
SEQUENCE:0
STATUS:Confirmed
SUMMARY:PCCSM Research Conference - Data Driven Quality Improvement: Lesso
 ns from a Statewide Sepsis Collaborative
UID:60708cb0-30f8-43ad-99be-97f3050ca999
END:VEVENT
BEGIN:VEVENT
DESCRIPTION:\nSpeaker:\nDaniel Weinberger\n\nAdmission:\nFree\n\nFood:\nLu
 nch: Lunch is served prior to the conference\, starting at 11:50AM.\n
DTEND;TZID=America/New_York:20260122T130000
DTSTAMP:20260424T150202Z
DTSTART;TZID=America/New_York:20260122T120000
EXDATE:20260122T120000
EXDATE:20260219T120000
EXDATE:20260402T120000
EXDATE:20260416T120000
EXDATE:20260514T120000
EXDATE:20260521T120000
LOCATION:URL: https://yalepccsm.com/PRC
RRULE:FREQ=WEEKLY;UNTIL=20260530T035959Z;BYDAY=TH
SEQUENCE:0
STATUS:Confirmed
SUMMARY:PCCSM Research Conference - More Options Than Ever for Preventing 
 RSV and Pneumococcus\, But is it All Good News?
UID:60708cb0-30f8-43ad-99be-97f3050ca999
END:VEVENT
END:VCALENDAR
