BEGIN:VCALENDAR
PRODID:-//github.com/ical-org/ical.net//NONSGML ical.net 4.0//EN
VERSION:2.0
BEGIN:VTIMEZONE
TZID:America/New_York
X-LIC-LOCATION:America/New_York
BEGIN:STANDARD
DTSTART:20241103T020000
RRULE:FREQ=YEARLY;BYDAY=1SU;BYMONTH=11
TZNAME:EST
TZOFFSETFROM:-0400
TZOFFSETTO:-0500
END:STANDARD
BEGIN:DAYLIGHT
DTSTART:20250309T020000
RRULE:FREQ=YEARLY;BYDAY=2SU;BYMONTH=3
TZNAME:EDT
TZOFFSETFROM:-0500
TZOFFSETTO:-0400
END:DAYLIGHT
END:VTIMEZONE
BEGIN:VEVENT
DESCRIPTION:Need help finding reliable information for your research or as
 signments? Join Young Min Kim for a virtual drop-in session to get person
 alized guidance on: Finding articles and books Literature review searches
  and refining research questions Navigating library databases Managing ci
 tations No appointment needed—just bring your questions! Can't make this 
 time? No problem! Email me to schedule a consultation at YoungMin.Kim@yal
 e.edu\n\nAdmission:\nFree: Open\; Registration not required.\n\nDetails U
 RL:\nhttps://medicine.yale.edu/event/ask-a-medical-librarian-virtual-drop
 -in-office-hours-1/\n
DTEND;TZID=America/New_York:20250903T120000
DTSTAMP:20260425T235251Z
DTSTART;TZID=America/New_York:20250903T110000
LOCATION:URL: https://schedule.yale.edu/event/15193953
RECURRENCE-ID;TZID=America/New_York:20250903T110000
SEQUENCE:0
STATUS:Confirmed
SUMMARY:Ask a Medical Librarian
UID:c71a4005-b625-4f09-a253-0ee1dd0d1de5
END:VEVENT
BEGIN:VEVENT
DESCRIPTION:Registration is not required. Need help finding reliable infor
 mation for your research or assignments? Join Young Min Kim for a virtual
  drop-in session to get personalized guidance on: Finding articles and bo
 oks Literature review searches and refining research questions Navigating
  library databases Managing citations\n\nAdmission:\nFree: Open\; Registr
 ation is not required.\n\nDetails URL:\nhttps://medicine.yale.edu/event/a
 sk-a-medical-librarian-virtual-drop-in-office-hours-2/\n
DTEND;TZID=America/New_York:20250910T120000
DTSTAMP:20260425T235251Z
DTSTART;TZID=America/New_York:20250910T110000
LOCATION:URL: https://schedule.yale.edu/event/15193954
RECURRENCE-ID;TZID=America/New_York:20250910T110000
SEQUENCE:0
STATUS:Confirmed
SUMMARY:Ask a Medical Librarian
UID:c71a4005-b625-4f09-a253-0ee1dd0d1de5
END:VEVENT
BEGIN:VEVENT
DESCRIPTION:Registration is not required. Need help finding reliable infor
 mation for your research or assignments? Join Young Min Kim for a virtual
  drop-in session to get personalized guidance on: Finding articles and bo
 oks Literature review searches and refining research questions Navigating
  library databases Managing citations\n\nAdmission:\nFree: Open\; Registr
 ation is not required.\n\nDetails URL:\nhttps://medicine.yale.edu/event/a
 sk-a-medical-librarian-virtual-drop-in-office-hours-3/\n
DTEND;TZID=America/New_York:20250917T120000
DTSTAMP:20260425T235251Z
DTSTART;TZID=America/New_York:20250917T110000
LOCATION:URL: https://schedule.yale.edu/event/15193955
RECURRENCE-ID;TZID=America/New_York:20250917T110000
SEQUENCE:0
STATUS:Confirmed
SUMMARY:Ask a Medical Librarian-Virtual Drop-in Office Hours
UID:c71a4005-b625-4f09-a253-0ee1dd0d1de5
END:VEVENT
BEGIN:VEVENT
DESCRIPTION:Registration is not required. Need help finding reliable infor
 mation for your research or assignments? Join Young Min Kim for a virtual
  drop-in session to get personalized guidance on: Finding articles and bo
 oks Literature review searches and refining research questions Navigating
  library databases Managing citations\n\nAdmission:\nFree: Open\; Registr
 ation is not required..\n\nDetails URL:\nhttps://medicine.yale.edu/event/
 ask-a-medical-librarian-virtual-drop-in-office-hours-4/\n
DTEND;TZID=America/New_York:20250924T120000
DTSTAMP:20260425T235251Z
DTSTART;TZID=America/New_York:20250924T110000
LOCATION:URL: https://schedule.yale.edu/event/15193956
RECURRENCE-ID;TZID=America/New_York:20250924T110000
SEQUENCE:0
STATUS:Confirmed
SUMMARY:Ask a Medical Librarian-Virtual Drop-in Office Hours
UID:c71a4005-b625-4f09-a253-0ee1dd0d1de5
END:VEVENT
BEGIN:VEVENT
DESCRIPTION:Registration is not required. Need help finding reliable infor
 mation for your research or assignments? Join Young Min Kim for a virtual
  drop-in session to get personalized guidance on: Finding articles and bo
 oks Literature review searches and refining research questions Navigating
  library databases Managing citations\n\nAdmission:\nFree: Open\; Registr
 ation is not required.\n\nDetails URL:\nhttps://medicine.yale.edu/event/a
 sk-a-medical-librarian-virtual-drop-in-office-hours-5/\n
DTEND;TZID=America/New_York:20251001T120000
DTSTAMP:20260425T235251Z
DTSTART;TZID=America/New_York:20251001T110000
LOCATION:URL: https://schedule.yale.edu/event/15193957
RECURRENCE-ID;TZID=America/New_York:20251001T110000
SEQUENCE:0
STATUS:Confirmed
SUMMARY:Ask a Medical Librarian Virtual Drop-in Office Hours
UID:c71a4005-b625-4f09-a253-0ee1dd0d1de5
END:VEVENT
BEGIN:VEVENT
DESCRIPTION:Registration is not required. Need help finding reliable infor
 mation for your research or assignments? Join Young Min Kim for a virtual
  drop-in session to get personalized guidance on: Finding articles and bo
 oks Literature review searches and refining research questions Navigating
  library databases Managing citations\n\nAdmission:\nFree: Open\; Registr
 ation is not required.\n\nDetails URL:\nhttps://medicine.yale.edu/event/a
 sk-a-medical-librarian-virtual-drop-in-office-hours-6/\n
DTEND;TZID=America/New_York:20251008T120000
DTSTAMP:20260425T235251Z
DTSTART;TZID=America/New_York:20251008T110000
LOCATION:URL: https://schedule.yale.edu/event/15193959
RECURRENCE-ID;TZID=America/New_York:20251008T110000
SEQUENCE:0
STATUS:Confirmed
SUMMARY:Ask a Medical Librarian Virtual Drop-in Office Hours
UID:c71a4005-b625-4f09-a253-0ee1dd0d1de5
END:VEVENT
BEGIN:VEVENT
DESCRIPTION:Registration is not required. Need help finding reliable infor
 mation for your research or assignments? Join Young Min Kim for a virtual
  drop-in session to get personalized guidance on: Finding articles and bo
 oks Literature review searches and refining research questions Navigating
  library databases Managing citations\n\nAdmission:\nFree: Open\; Registr
 ation is not required.\n\nDetails URL:\nhttps://medicine.yale.edu/event/a
 sk-a-medical-librarian-virtual-drop-in-office-hours-7/\n
DTEND;TZID=America/New_York:20251015T120000
DTSTAMP:20260425T235251Z
DTSTART;TZID=America/New_York:20251015T110000
LOCATION:URL: https://schedule.yale.edu/event/15193961
RECURRENCE-ID;TZID=America/New_York:20251015T110000
SEQUENCE:0
STATUS:Confirmed
SUMMARY:Ask a Medical Librarian
UID:c71a4005-b625-4f09-a253-0ee1dd0d1de5
END:VEVENT
BEGIN:VEVENT
DESCRIPTION:Registration is not required. Need help finding reliable infor
 mation for your research or assignments? Join Young Min Kim for a virtual
  drop-in session to get personalized guidance on: Finding articles and bo
 oks Literature review searches and refining research questions Navigating
  library databases Managing citations\n\nAdmission:\nFree: Open\; Registr
 ation is not required.\n\nDetails URL:\nhttps://medicine.yale.edu/event/a
 sk-a-medical-librarian-virtual-drop-in-office-hours-8/\n
DTEND;TZID=America/New_York:20251022T120000
DTSTAMP:20260425T235251Z
DTSTART;TZID=America/New_York:20251022T110000
LOCATION:URL: https://schedule.yale.edu/event/15193962
RECURRENCE-ID;TZID=America/New_York:20251022T110000
SEQUENCE:0
STATUS:Confirmed
SUMMARY:Ask a Medical Librarian Virtual Drop-in Office Hours
UID:c71a4005-b625-4f09-a253-0ee1dd0d1de5
END:VEVENT
BEGIN:VEVENT
DESCRIPTION:Registration is not required. Need help finding reliable infor
 mation for your research or assignments? Join Young Min Kim for a virtual
  drop-in session to get personalized guidance on: Finding articles and bo
 oks Literature review searches and refining research questions Navigating
  library databases Managing citations\n\nAdmission:\nFree: Open\; Registr
 ation is not required.\n\nDetails URL:\nhttps://medicine.yale.edu/event/a
 sk-a-medical-librarian-virtual-drop-in-office-hours-9/\n
DTEND;TZID=America/New_York:20251029T120000
DTSTAMP:20260425T235251Z
DTSTART;TZID=America/New_York:20251029T110000
LOCATION:URL: https://schedule.yale.edu/event/15193963
RECURRENCE-ID;TZID=America/New_York:20251029T110000
SEQUENCE:0
STATUS:Confirmed
SUMMARY:Ask a Medical Librarian-Virtual Drop-in Office Hours
UID:c71a4005-b625-4f09-a253-0ee1dd0d1de5
END:VEVENT
BEGIN:VEVENT
DESCRIPTION:Registration is not required. Need help finding reliable infor
 mation for your research or assignments? Join Young Min Kim for a virtual
  drop-in session to get personalized guidance on: Finding articles and bo
 oks Literature review searches and refining research questions Navigating
  library databases Managing citations\n\nAdmission:\nFree: Open\; Registr
 ation is not required.\n\nDetails URL:\nhttps://medicine.yale.edu/event/a
 sk-a-medical-librarian-virtual-drop-in-office-hours-10/\n
DTEND;TZID=America/New_York:20251105T120000
DTSTAMP:20260425T235251Z
DTSTART;TZID=America/New_York:20251105T110000
LOCATION:URL: https://schedule.yale.edu/event/15193964
RECURRENCE-ID;TZID=America/New_York:20251105T110000
SEQUENCE:0
STATUS:Cancelled
SUMMARY:Ask a Medical Librarian Virtual Drop-in Office Hours
UID:c71a4005-b625-4f09-a253-0ee1dd0d1de5
END:VEVENT
BEGIN:VEVENT
DESCRIPTION:Registration is not required. Need help finding reliable infor
 mation for your research or assignments? Join Young Min Kim for a virtual
  drop-in session to get personalized guidance on: Finding articles and bo
 oks Literature review searches and refining research questions Navigating
  library databases Managing citations\n\nAdmission:\nFree: Open\; Registr
 ation is not required.\n\nDetails URL:\nhttps://medicine.yale.edu/event/a
 sk-a-medical-librarian-virtual-drop-in-office-hours-11/\n
DTEND;TZID=America/New_York:20251112T120000
DTSTAMP:20260425T235251Z
DTSTART;TZID=America/New_York:20251112T110000
LOCATION:URL: https://schedule.yale.edu/event/15193965
RECURRENCE-ID;TZID=America/New_York:20251112T110000
SEQUENCE:0
STATUS:Cancelled
SUMMARY:Ask a Medical Librarian-Virtual Drop-in Office Hours
UID:c71a4005-b625-4f09-a253-0ee1dd0d1de5
END:VEVENT
BEGIN:VEVENT
DESCRIPTION:Registration is not required. Need help finding reliable infor
 mation for your research or assignments? Join Young Min Kim for a virtual
  drop-in session to get personalized guidance on: Finding articles and bo
 oks Literature review searches and refining research questions Navigating
  library databases Managing citations\n\nAdmission:\nFree: Open\; Registr
 ation is not required.\n\nDetails URL:\nhttps://medicine.yale.edu/event/a
 sk-a-medical-librarian-virtual-drop-in-office-hours-12/\n
DTEND;TZID=America/New_York:20251119T120000
DTSTAMP:20260425T235251Z
DTSTART;TZID=America/New_York:20251119T110000
LOCATION:URL: https://schedule.yale.edu/event/15193966
RECURRENCE-ID;TZID=America/New_York:20251119T110000
SEQUENCE:0
STATUS:Cancelled
SUMMARY:Ask a Medical Librarian-Virtual Drop-in Office Hours
UID:c71a4005-b625-4f09-a253-0ee1dd0d1de5
END:VEVENT
BEGIN:VEVENT
DESCRIPTION:Registration is not required. Need help finding reliable infor
 mation for your research or assignments? Join Young Min Kim for a virtual
  drop-in session to get personalized guidance on: Finding articles and bo
 oks Literature review searches and refining research questions Navigating
  library databases Managing citations\n\nAdmission:\nFree: Open\; Registr
 ation is not required.\n\nDetails URL:\nhttps://medicine.yale.edu/event/a
 sk-a-medical-librarian-virtual-drop-in-office-hours-13/\n
DTEND;TZID=America/New_York:20251126T120000
DTSTAMP:20260425T235251Z
DTSTART;TZID=America/New_York:20251126T110000
LOCATION:URL: https://schedule.yale.edu/event/15193967
RECURRENCE-ID;TZID=America/New_York:20251126T110000
SEQUENCE:0
STATUS:Cancelled
SUMMARY:Ask a Medical Librarian-Virtual Drop-in Office Hours
UID:c71a4005-b625-4f09-a253-0ee1dd0d1de5
END:VEVENT
BEGIN:VEVENT
DESCRIPTION:Registration is not required. Need help finding reliable infor
 mation for your research or assignments? Join Young Min Kim for a virtual
  drop-in session to get personalized guidance on: Finding articles and bo
 oks Literature review searches and refining research questions Navigating
  library databases Managing citations\n\nAdmission:\nFree: Open\; Registr
 ation is not required.\n\nDetails URL:\nhttps://medicine.yale.edu/event/a
 sk-a-medical-librarian-virtual-drop-in-office-hours-14/\n
DTEND;TZID=America/New_York:20251203T120000
DTSTAMP:20260425T235251Z
DTSTART;TZID=America/New_York:20251203T110000
LOCATION:URL: https://schedule.yale.edu/event/15193968
RECURRENCE-ID;TZID=America/New_York:20251203T110000
SEQUENCE:0
STATUS:Cancelled
SUMMARY:Ask a Medical Librarian-Virtual Drop-in Office Hours
UID:c71a4005-b625-4f09-a253-0ee1dd0d1de5
END:VEVENT
BEGIN:VEVENT
DESCRIPTION:Registration is not required. Need help finding reliable infor
 mation for your research or assignments? Join Young Min Kim for a virtual
  drop-in session to get personalized guidance on: Finding articles and bo
 oks Literature review searches and refining research questions Navigating
  library databases Managing citations\n\nAdmission:\nFree: Open\; Registr
 ation is not required.\n\nDetails URL:\nhttps://medicine.yale.edu/event/a
 sk-a-medical-librarian-virtual-drop-in-office-hours-15/\n
DTEND;TZID=America/New_York:20251210T120000
DTSTAMP:20260425T235251Z
DTSTART;TZID=America/New_York:20251210T110000
LOCATION:URL: https://schedule.yale.edu/event/15193969
RECURRENCE-ID;TZID=America/New_York:20251210T110000
SEQUENCE:0
STATUS:Cancelled
SUMMARY:Ask a Medical Librarian-Virtual Drop-in Office Hours
UID:c71a4005-b625-4f09-a253-0ee1dd0d1de5
END:VEVENT
BEGIN:VEVENT
DESCRIPTION:Registration is not required. Need help finding reliable infor
 mation for your research or assignments? Join Young Min Kim for a virtual
  drop-in session to get personalized guidance on: Finding articles and bo
 oks Literature review searches and refining research questions Navigating
  library databases Managing citations\n\nAdmission:\nFree: Open\; Registr
 ation is not required.\n\nDetails URL:\nhttps://medicine.yale.edu/event/a
 sk-a-medical-librarian-virtual-drop-in-office-hours-16/\n
DTEND;TZID=America/New_York:20251217T120000
DTSTAMP:20260425T235251Z
DTSTART;TZID=America/New_York:20251217T110000
LOCATION:URL: https://schedule.yale.edu/event/15193970
RECURRENCE-ID;TZID=America/New_York:20251217T110000
SEQUENCE:0
STATUS:Cancelled
SUMMARY:Ask a Medical Librarian-Virtual Drop-in Office Hours
UID:c71a4005-b625-4f09-a253-0ee1dd0d1de5
END:VEVENT
BEGIN:VEVENT
DESCRIPTION:Registration is not required. Need help finding reliable infor
 mation for your research or assignments? Join Young Min Kim for a virtual
  drop-in session to get personalized guidance on: Finding articles and bo
 oks Literature review searches and refining research questions Navigating
  library databases Managing citations\n\nAdmission:\nFree: Open\; Registr
 ation is not required.\n
DTEND;TZID=America/New_York:20250903T120000
DTSTAMP:20260425T235251Z
DTSTART;TZID=America/New_York:20250903T110000
LOCATION:URL: https://schedule.yale.edu/event/15193954
RRULE:FREQ=WEEKLY;UNTIL=20251218T045959Z;BYDAY=WE
SEQUENCE:0
STATUS:Cancelled
SUMMARY:Ask a Medical Librarian-Virtual Drop-in Office Hours
UID:c71a4005-b625-4f09-a253-0ee1dd0d1de5
END:VEVENT
END:VCALENDAR
