BEGIN:VCALENDAR
PRODID:-//github.com/ical-org/ical.net//NONSGML ical.net 4.0//EN
VERSION:2.0
BEGIN:VTIMEZONE
TZID:America/New_York
X-LIC-LOCATION:America/New_York
BEGIN:STANDARD
DTSTART:20241103T020000
RRULE:FREQ=YEARLY;BYDAY=1SU;BYMONTH=11
TZNAME:EST
TZOFFSETFROM:-0400
TZOFFSETTO:-0500
END:STANDARD
BEGIN:DAYLIGHT
DTSTART:20250309T020000
RRULE:FREQ=YEARLY;BYDAY=2SU;BYMONTH=3
TZNAME:EDT
TZOFFSETFROM:-0500
TZOFFSETTO:-0400
END:DAYLIGHT
END:VTIMEZONE
BEGIN:VEVENT
DESCRIPTION:This optional session fulfills the annual requirement to maint
 ain billing privileges.\n\nSpeakers:\nJennifer Lacerda\; Jamie Berry\n\nA
 dmission:\nFree\n\nFood:\n\n\nDetails URL:\nhttps://medicine.yale.edu/eve
 nt/department-of-surgery-grand-rounds-medical-billing-compliance-2025/\n
DTEND;TZID=America/New_York:20250905T083000
DTSTAMP:20260425T081453Z
DTSTART;TZID=America/New_York:20250905T073000
LOCATION:Zoom details sent via Outlook
RECURRENCE-ID;TZID=America/New_York:20250905T073000
SEQUENCE:0
STATUS:Confirmed
SUMMARY:Medical Billing Compliance
UID:0c6a0e48-9440-49e4-9051-6acb0fc001e8
END:VEVENT
BEGIN:VEVENT
DESCRIPTION:\nSpeaker:\nBenjamin Judson\n\nAdmission:\nFree\n\nFood:\nBrea
 kfast\, Coffee\n\nDetails URL:\nhttps://medicine.yale.edu/event/departmen
 t-of-surgery-grand-rounds-and-qi-2/\n
DTEND;TZID=America/New_York:20250912T083000
DTSTAMP:20260425T081453Z
DTSTART;TZID=America/New_York:20250912T073000
LOCATION:Zoom details sent via Outlook
RECURRENCE-ID;TZID=America/New_York:20250912T073000
SEQUENCE:0
STATUS:Confirmed
SUMMARY:State of the Department
UID:0c6a0e48-9440-49e4-9051-6acb0fc001e8
END:VEVENT
BEGIN:VEVENT
DESCRIPTION:\nAdmission:\nFree\n\nFood:\nBreakfast\, Coffee\n\nDetails URL
 :\nhttps://medicine.yale.edu/event/department-of-surgery-qi/\n
DTEND;TZID=America/New_York:20250919T083000
DTSTAMP:20260425T081453Z
DTSTART;TZID=America/New_York:20250919T073000
LOCATION:Zoom details sent via Outlook
RECURRENCE-ID;TZID=America/New_York:20250919T073000
SEQUENCE:0
STATUS:Confirmed
SUMMARY:Quality & Safety: AY25 Goals & Priorities
UID:0c6a0e48-9440-49e4-9051-6acb0fc001e8
END:VEVENT
BEGIN:VEVENT
DESCRIPTION:\nAdmission:\nFree\n\nFood:\nBreakfast\, Coffee\n\nDetails URL
 :\nhttps://medicine.yale.edu/event/department-of-surgery-grand-rounds-and
 -qi-4/\n
DTEND;TZID=America/New_York:20250926T083000
DTSTAMP:20260425T081453Z
DTSTART;TZID=America/New_York:20250926T073000
LOCATION:Zoom details sent via Outlook
RECURRENCE-ID;TZID=America/New_York:20250926T073000
SEQUENCE:0
STATUS:Confirmed
SUMMARY:Faculty Showcase
UID:0c6a0e48-9440-49e4-9051-6acb0fc001e8
END:VEVENT
BEGIN:VEVENT
DESCRIPTION:All Hands session. Full Department attendance is expected.\n\n
 Speaker:\nNancy Brown\n\nAdmission:\nFree\n\nFood:\nBreakfast\, Coffee\n\
 nDetails URL:\nhttps://medicine.yale.edu/event/department-of-surgery-gran
 d-rounds-and-qi-5/\n
DTEND;TZID=America/New_York:20251003T083000
DTSTAMP:20260425T081453Z
DTSTART;TZID=America/New_York:20251003T073000
LOCATION:Zoom details sent via Outlook
RECURRENCE-ID;TZID=America/New_York:20251003T073000
SEQUENCE:0
STATUS:Confirmed
SUMMARY:Dean Brown Annual Presentation
UID:0c6a0e48-9440-49e4-9051-6acb0fc001e8
END:VEVENT
BEGIN:VEVENT
DESCRIPTION:\nSpeaker:\nAurora Pryor\, MD\, MBA\n\nAdmission:\nFree\n\nFoo
 d:\nBreakfast\, Coffee\n\nDetails URL:\nhttps://medicine.yale.edu/event/d
 epartment-of-surgery-grand-rounds-and-qi-6/\n
DTEND;TZID=America/New_York:20251010T083000
DTSTAMP:20260425T081453Z
DTSTART;TZID=America/New_York:20251010T073000
LOCATION:Zoom details sent via Outlook
RECURRENCE-ID;TZID=America/New_York:20251010T073000
SEQUENCE:0
STATUS:Confirmed
SUMMARY:Margret Oddsdottir MD Memorial Lectureship
UID:0c6a0e48-9440-49e4-9051-6acb0fc001e8
END:VEVENT
BEGIN:VEVENT
DESCRIPTION:\nAdmission:\nFree\n\nFood:\nBreakfast\, Coffee\n\nDetails URL
 :\nhttps://medicine.yale.edu/event/department-of-surgery-grand-rounds-and
 -qi-7/\n
DTEND;TZID=America/New_York:20251017T083000
DTSTAMP:20260425T081453Z
DTSTART;TZID=America/New_York:20251017T073000
LOCATION:Zoom details sent via Outlook
RECURRENCE-ID;TZID=America/New_York:20251017T073000
SEQUENCE:0
STATUS:Confirmed
SUMMARY:M&M: Bariatric & Minimally Invasive Surgery
UID:0c6a0e48-9440-49e4-9051-6acb0fc001e8
END:VEVENT
BEGIN:VEVENT
DESCRIPTION:\nAdmission:\nFree\n\nFood:\nBreakfast\, Coffee\n\nDetails URL
 :\nhttps://medicine.yale.edu/event/department-of-surgery-grand-rounds-and
 -qi-8/\n
DTEND;TZID=America/New_York:20251024T083000
DTSTAMP:20260425T081453Z
DTSTART;TZID=America/New_York:20251024T073000
LOCATION:Zoom details sent via Outlook
RECURRENCE-ID;TZID=America/New_York:20251024T073000
SEQUENCE:0
STATUS:Confirmed
SUMMARY:M&M: Surgical Oncology
UID:0c6a0e48-9440-49e4-9051-6acb0fc001e8
END:VEVENT
BEGIN:VEVENT
DESCRIPTION:\nSpeaker:\nBarbara L. Smith\, MD\, PhD\n\nAdmission:\nFree\n\
 nFood:\nBreakfast\, Coffee\n\nDetails URL:\nhttps://medicine.yale.edu/eve
 nt/department-of-surgery-grand-rounds-and-qi-9/\n
DTEND;TZID=America/New_York:20251031T083000
DTSTAMP:20260425T081453Z
DTSTART;TZID=America/New_York:20251031T073000
LOCATION:Zoom details sent via Outlook
RECURRENCE-ID;TZID=America/New_York:20251031T073000
SEQUENCE:0
STATUS:Confirmed
SUMMARY:Prudence S. Crozier Lectureship
UID:0c6a0e48-9440-49e4-9051-6acb0fc001e8
END:VEVENT
BEGIN:VEVENT
DESCRIPTION:All Hands session. Full Department attendance is expected.\n\n
 Admission:\nFree\n\nFood:\nBreakfast\, Coffee\n\nDetails URL:\nhttps://me
 dicine.yale.edu/event/department-of-surgery-grand-rounds-and-qi-10/\n
DTEND;TZID=America/New_York:20251107T080000
DTSTAMP:20260425T081453Z
DTSTART;TZID=America/New_York:20251107T070000
LOCATION:Zoom details sent via Outlook
RECURRENCE-ID;TZID=America/New_York:20251107T070000
SEQUENCE:0
STATUS:Confirmed
SUMMARY:Great Saves
UID:0c6a0e48-9440-49e4-9051-6acb0fc001e8
END:VEVENT
BEGIN:VEVENT
DESCRIPTION:\nSpeaker:\nMartin Croce\, MD\n\nAdmission:\nFree\n\nFood:\nBr
 eakfast\, Coffee\n\nDetails URL:\nhttps://medicine.yale.edu/event/departm
 ent-of-surgery-grand-rounds-and-qi-11/\n
DTEND;TZID=America/New_York:20251114T083000
DTSTAMP:20260425T081453Z
DTSTART;TZID=America/New_York:20251114T073000
LOCATION:Zoom details sent via Outlook
RECURRENCE-ID;TZID=America/New_York:20251114T073000
SEQUENCE:0
STATUS:Confirmed
SUMMARY:Leon Sample Lectureship
UID:0c6a0e48-9440-49e4-9051-6acb0fc001e8
END:VEVENT
BEGIN:VEVENT
DESCRIPTION:\nAdmission:\nFree\n\nFood:\nBreakfast\, Coffee\n\nDetails URL
 :\nhttps://medicine.yale.edu/event/department-of-surgery-grand-rounds-and
 -qi-12/\n
DTEND;TZID=America/New_York:20251121T083000
DTSTAMP:20260425T081453Z
DTSTART;TZID=America/New_York:20251121T073000
LOCATION:Zoom details sent via Outlook
RECURRENCE-ID;TZID=America/New_York:20251121T073000
SEQUENCE:0
STATUS:Confirmed
SUMMARY:M&M: Colon & Rectal Surgery
UID:0c6a0e48-9440-49e4-9051-6acb0fc001e8
END:VEVENT
BEGIN:VEVENT
DESCRIPTION:\nSpeaker:\nStephen Trzeciak\, MD\, MPH\n\nAdmission:\nFree\n\
 nFood:\nBreakfast\, Coffee\n\nDetails URL:\nhttps://medicine.yale.edu/eve
 nt/department-of-surgery-grand-rounds-and-qi-14/\n
DTEND;TZID=America/New_York:20251205T083000
DTSTAMP:20260425T081453Z
DTSTART;TZID=America/New_York:20251205T073000
LOCATION:Zoom details sent via Outlook
RECURRENCE-ID;TZID=America/New_York:20251205T073000
SEQUENCE:0
STATUS:Confirmed
SUMMARY:Drs. KJ and Linda Lee Lectureship
UID:0c6a0e48-9440-49e4-9051-6acb0fc001e8
END:VEVENT
BEGIN:VEVENT
DESCRIPTION:\nAdmission:\nFree\n\nFood:\nBreakfast\, Coffee\n\nDetails URL
 :\nhttps://medicine.yale.edu/event/department-of-surgery-grand-rounds-and
 -qi-15/\n
DTEND;TZID=America/New_York:20251212T083000
DTSTAMP:20260425T081453Z
DTSTART;TZID=America/New_York:20251212T073000
LOCATION:Zoom details sent via Outlook
RECURRENCE-ID;TZID=America/New_York:20251212T073000
SEQUENCE:0
STATUS:Confirmed
SUMMARY:M&M: Cardiac Surgery
UID:0c6a0e48-9440-49e4-9051-6acb0fc001e8
END:VEVENT
BEGIN:VEVENT
DESCRIPTION:\nSpeaker:\nTimothy W. Mullett\, MD\, MBA\n\nAdmission:\nFree\
 n\nFood:\nBreakfast\, Coffee\n\nDetails URL:\nhttps://medicine.yale.edu/e
 vent/department-of-surgery-grand-rounds-and-qi-16/\n
DTEND;TZID=America/New_York:20251219T083000
DTSTAMP:20260425T081453Z
DTSTART;TZID=America/New_York:20251219T073000
LOCATION:Zoom details sent via Outlook
RECURRENCE-ID;TZID=America/New_York:20251219T073000
SEQUENCE:0
STATUS:Confirmed
SUMMARY:Thoracic Surgery Lectureship
UID:0c6a0e48-9440-49e4-9051-6acb0fc001e8
END:VEVENT
BEGIN:VEVENT
DESCRIPTION:\nAdmission:\nFree\n\nFood:\nBreakfast\, Coffee\n\nDetails URL
 :\nhttps://medicine.yale.edu/event/department-of-surgery-grand-rounds-and
 -qi-19/\n
DTEND;TZID=America/New_York:20260109T083000
DTSTAMP:20260425T081453Z
DTSTART;TZID=America/New_York:20260109T073000
LOCATION:Zoom details sent via Outlook
RECURRENCE-ID;TZID=America/New_York:20260109T073000
SEQUENCE:0
STATUS:Confirmed
SUMMARY:M&M: Otolaryngology
UID:0c6a0e48-9440-49e4-9051-6acb0fc001e8
END:VEVENT
BEGIN:VEVENT
DESCRIPTION:LEADERSHIP IN AMERICAN SURGERY: IMPERATIVE FOR INCLUSIVE EXCEL
 LENCE\n\nSpeaker:\nHenri R. Ford\, MD\, MHA\n\nAdmission:\nFree\n\nFood:\
 nBreakfast\, Coffee\n\nDetails URL:\nhttps://medicine.yale.edu/event/depa
 rtment-of-surgery-grand-rounds-and-qi-20/\n
DTEND;TZID=America/New_York:20260116T080000
DTSTAMP:20260425T081453Z
DTSTART;TZID=America/New_York:20260116T070000
LOCATION:Zoom details sent via Outlook
RECURRENCE-ID;TZID=America/New_York:20260116T070000
SEQUENCE:0
STATUS:Confirmed
SUMMARY:MLK Jr. Memorial Lectureship
UID:0c6a0e48-9440-49e4-9051-6acb0fc001e8
END:VEVENT
BEGIN:VEVENT
DESCRIPTION:\nSpeaker:\nFrancois Luks\, MD\, PhD\n\nAdmission:\nFree\n\nFo
 od:\nBreakfast\, Coffee\n\nDetails URL:\nhttps://medicine.yale.edu/event/
 department-of-surgery-grand-rounds-and-qi-21/\n
DTEND;TZID=America/New_York:20260123T083000
DTSTAMP:20260425T081453Z
DTSTART;TZID=America/New_York:20260123T073000
LOCATION:Zoom details sent via Outlook
RECURRENCE-ID;TZID=America/New_York:20260123T073000
SEQUENCE:0
STATUS:Confirmed
SUMMARY:Robert J. Touloukian MD Lectureship
UID:0c6a0e48-9440-49e4-9051-6acb0fc001e8
END:VEVENT
BEGIN:VEVENT
DESCRIPTION:\nAdmission:\nFree\n\nFood:\nBreakfast\, Coffee\n\nDetails URL
 :\nhttps://medicine.yale.edu/event/department-of-surgery-grand-rounds-and
 -qi-22/\n
DTEND;TZID=America/New_York:20260130T083000
DTSTAMP:20260425T081453Z
DTSTART;TZID=America/New_York:20260130T073000
LOCATION:Zoom details sent via Outlook
RECURRENCE-ID;TZID=America/New_York:20260130T073000
SEQUENCE:0
STATUS:Confirmed
SUMMARY:M&M: Pediatric Surgery
UID:0c6a0e48-9440-49e4-9051-6acb0fc001e8
END:VEVENT
BEGIN:VEVENT
DESCRIPTION:\nSpeaker:\nClay Cothren Burlew\, MD\n\nAdmission:\nFree\n\nFo
 od:\nBreakfast\, Coffee\n\nDetails URL:\nhttps://medicine.yale.edu/event/
 department-of-surgery-grand-rounds-and-qi-23/\n
DTEND;TZID=America/New_York:20260206T083000
DTSTAMP:20260425T081453Z
DTSTART;TZID=America/New_York:20260206T073000
LOCATION:Zoom link available upon request
RECURRENCE-ID;TZID=America/New_York:20260206T073000
SEQUENCE:0
STATUS:Confirmed
SUMMARY:Women in Surgery Lectureship
UID:0c6a0e48-9440-49e4-9051-6acb0fc001e8
END:VEVENT
BEGIN:VEVENT
DESCRIPTION:\nSpeaker:\nChristy Cauley\, MD\n\nAdmission:\nFree\n\nFood:\n
 Breakfast\, Coffee\n\nDetails URL:\nhttps://medicine.yale.edu/event/depar
 tment-of-surgery-grand-rounds-and-qi-24/\n
DTEND;TZID=America/New_York:20260213T083000
DTSTAMP:20260425T081453Z
DTSTART;TZID=America/New_York:20260213T073000
LOCATION:Zoom link available upon request
RECURRENCE-ID;TZID=America/New_York:20260213T073000
SEQUENCE:0
STATUS:Confirmed
SUMMARY:Colon & Rectal Surgery Lectureship
UID:0c6a0e48-9440-49e4-9051-6acb0fc001e8
END:VEVENT
BEGIN:VEVENT
DESCRIPTION:\nSpeaker:\nAmy Moore\, MD\n\nAdmission:\nFree\n\nFood:\nBreak
 fast\, Coffee\n\nDetails URL:\nhttps://medicine.yale.edu/event/department
 -of-surgery-grand-rounds-and-qi-25/\n
DTEND;TZID=America/New_York:20260220T083000
DTSTAMP:20260425T081453Z
DTSTART;TZID=America/New_York:20260220T073000
LOCATION:Zoom link available upon request
RECURRENCE-ID;TZID=America/New_York:20260220T073000
SEQUENCE:0
STATUS:Confirmed
SUMMARY:Stephan Ariyan MD Lectureship
UID:0c6a0e48-9440-49e4-9051-6acb0fc001e8
END:VEVENT
BEGIN:VEVENT
DESCRIPTION:\nAdmission:\nFree\n\nFood:\nBreakfast\, Coffee\n\nDetails URL
 :\nhttps://medicine.yale.edu/event/department-of-surgery-grand-rounds-and
 -qi-26/\n
DTEND;TZID=America/New_York:20260227T083000
DTSTAMP:20260425T081453Z
DTSTART;TZID=America/New_York:20260227T073000
LOCATION:Zoom details sent via Outlook
RECURRENCE-ID;TZID=America/New_York:20260227T073000
SEQUENCE:0
STATUS:Confirmed
SUMMARY:M&M: Plastic Surgery
UID:0c6a0e48-9440-49e4-9051-6acb0fc001e8
END:VEVENT
BEGIN:VEVENT
DESCRIPTION:\nSpeaker:\nMichael S. Conte\, MD \n\nAdmission:\nFree\n\nFood
 :\nBreakfast\, Coffee\n\nDetails URL:\nhttps://medicine.yale.edu/event/de
 partment-of-surgery-grand-rounds-and-qi-27/\n
DTEND;TZID=America/New_York:20260306T083000
DTSTAMP:20260425T081453Z
DTSTART;TZID=America/New_York:20260306T073000
LOCATION:Zoom details sent via Outlook
RECURRENCE-ID;TZID=America/New_York:20260306T073000
SEQUENCE:0
STATUS:Confirmed
SUMMARY:Vascular Surgery Lectureship
UID:0c6a0e48-9440-49e4-9051-6acb0fc001e8
END:VEVENT
BEGIN:VEVENT
DESCRIPTION:\nAdmission:\nFree\n\nFood:\nBreakfast\, Coffee\n\nDetails URL
 :\nhttps://medicine.yale.edu/event/department-of-surgery-grand-rounds-and
 -qi-28/\n
DTEND;TZID=America/New_York:20260313T083000
DTSTAMP:20260425T081453Z
DTSTART;TZID=America/New_York:20260313T073000
LOCATION:Zoom details sent via Outlook
RECURRENCE-ID;TZID=America/New_York:20260313T073000
SEQUENCE:0
STATUS:Confirmed
SUMMARY:M&M: General Surgery\, Trauma & Surgical Critical Care
UID:0c6a0e48-9440-49e4-9051-6acb0fc001e8
END:VEVENT
BEGIN:VEVENT
DESCRIPTION:\nSpeaker:\nDana M. Thompson\, MD\, MS\, MBA\n\nAdmission:\nFr
 ee\n\nFood:\nBreakfast\, Coffee\n\nDetails URL:\nhttps://medicine.yale.ed
 u/event/department-of-surgery-grand-rounds-and-qi-29/\n
DTEND;TZID=America/New_York:20260320T083000
DTSTAMP:20260425T081453Z
DTSTART;TZID=America/New_York:20260320T073000
LOCATION:Zoom link available upon request
RECURRENCE-ID;TZID=America/New_York:20260320T073000
SEQUENCE:0
STATUS:Confirmed
SUMMARY:Clarence T. Sasaki MD Lectureship
UID:0c6a0e48-9440-49e4-9051-6acb0fc001e8
END:VEVENT
BEGIN:VEVENT
DESCRIPTION:\nAdmission:\nFree\n\nFood:\nBreakfast\, Coffee\n\nDetails URL
 :\nhttps://medicine.yale.edu/event/department-of-surgery-grand-rounds-and
 -qi-30/\n
DTEND;TZID=America/New_York:20260327T083000
DTSTAMP:20260425T081453Z
DTSTART;TZID=America/New_York:20260327T073000
LOCATION:Zoom link available upon request
RECURRENCE-ID;TZID=America/New_York:20260327T073000
SEQUENCE:0
STATUS:Confirmed
SUMMARY:M&M: Transplant Surgery
UID:0c6a0e48-9440-49e4-9051-6acb0fc001e8
END:VEVENT
BEGIN:VEVENT
DESCRIPTION:All Hands session. Full Department attendance is expected.\n\n
 Speaker:\nJulie Ann Sosa\n\nAdmission:\nFree\n\nFood:\nBreakfast\, Coffee
 \n\nDetails URL:\nhttps://medicine.yale.edu/event/department-of-surgery-g
 rand-rounds-and-qi-32/\n
DTEND;TZID=America/New_York:20260410T083000
DTSTAMP:20260425T081453Z
DTSTART;TZID=America/New_York:20260410T073000
LOCATION:Zoom details sent via Outlook
RECURRENCE-ID;TZID=America/New_York:20260410T073000
SEQUENCE:0
STATUS:Confirmed
SUMMARY:Research Day Lectureship
UID:0c6a0e48-9440-49e4-9051-6acb0fc001e8
END:VEVENT
BEGIN:VEVENT
DESCRIPTION:\nSpeaker:\nJoseph F. Sabik III\, MD\n\nAdmission:\nFree\n\nFo
 od:\nBreakfast\, Coffee\n\nDetails URL:\nhttps://medicine.yale.edu/event/
 department-of-surgery-grand-rounds-and-qi-33/\n
DTEND;TZID=America/New_York:20260417T083000
DTSTAMP:20260425T081453Z
DTSTART;TZID=America/New_York:20260417T073000
LOCATION:Zoom link available upon request
RECURRENCE-ID;TZID=America/New_York:20260417T073000
SEQUENCE:0
STATUS:Confirmed
SUMMARY:William W.L. Glenn Lectureship
UID:0c6a0e48-9440-49e4-9051-6acb0fc001e8
END:VEVENT
BEGIN:VEVENT
DESCRIPTION:\nAdmission:\nFree\n\nFood:\nCoffee\, Breakfast\n\nDetails URL
 :\nhttps://medicine.yale.edu/event/department-of-surgery-grand-rounds-and
 -qi-34/\n
DTEND;TZID=America/New_York:20260424T080000
DTSTAMP:20260425T081453Z
DTSTART;TZID=America/New_York:20260424T070000
LOCATION:Zoom details sent via Outlook
RECURRENCE-ID;TZID=America/New_York:20260424T070000
SEQUENCE:0
STATUS:Confirmed
SUMMARY:Fire Safety Training
UID:0c6a0e48-9440-49e4-9051-6acb0fc001e8
END:VEVENT
BEGIN:VEVENT
DESCRIPTION:All Hands session. Full Department attendance is expected.\n\n
 Speaker:\nJohn H. Stewart\, IV\, MD\, MBA\n\nAdmission:\nFree\n\nFood:\nB
 reakfast\, Coffee\n\nDetails URL:\nhttps://medicine.yale.edu/event/depart
 ment-of-surgery-grand-rounds-and-qi-35/\n
DTEND;TZID=America/New_York:20260501T083000
DTSTAMP:20260425T081453Z
DTSTART;TZID=America/New_York:20260501T073000
LOCATION:Zoom details sent via Outlook
RECURRENCE-ID;TZID=America/New_York:20260501T073000
SEQUENCE:0
STATUS:Confirmed
SUMMARY:Yvedt L. Matory MD Lectureship
UID:0c6a0e48-9440-49e4-9051-6acb0fc001e8
END:VEVENT
BEGIN:VEVENT
DESCRIPTION:\nAdmission:\nFree\n\nFood:\nBreakfast\, Coffee\n\nDetails URL
 :\nhttps://medicine.yale.edu/event/department-of-surgery-grand-rounds-and
 -qi-36/\n
DTEND;TZID=America/New_York:20260508T083000
DTSTAMP:20260425T081453Z
DTSTART;TZID=America/New_York:20260508T073000
LOCATION:Zoom link available upon request
RECURRENCE-ID;TZID=America/New_York:20260508T073000
SEQUENCE:0
STATUS:Confirmed
SUMMARY:M&M: Thoracic Surgery
UID:0c6a0e48-9440-49e4-9051-6acb0fc001e8
END:VEVENT
BEGIN:VEVENT
DESCRIPTION:\nAdmission:\nFree\n\nFood:\nBreakfast\, Coffee\n\nDetails URL
 :\nhttps://medicine.yale.edu/event/department-of-surgery-grand-rounds-and
 -qi-37/\n
DTEND;TZID=America/New_York:20260515T083000
DTSTAMP:20260425T081453Z
DTSTART;TZID=America/New_York:20260515T073000
LOCATION:Zoom link available upon request
RECURRENCE-ID;TZID=America/New_York:20260515T073000
SEQUENCE:0
STATUS:Confirmed
SUMMARY:M&M: Vascular Surgery
UID:0c6a0e48-9440-49e4-9051-6acb0fc001e8
END:VEVENT
BEGIN:VEVENT
DESCRIPTION:\nAdmission:\nFree\n\nFood:\nBreakfast\, Coffee\n\nDetails URL
 :\nhttps://medicine.yale.edu/event/department-of-surgery-grand-rounds-and
 -qi-38/\n
DTEND;TZID=America/New_York:20260522T080000
DTSTAMP:20260425T081453Z
DTSTART;TZID=America/New_York:20260522T070000
LOCATION:Zoom link available upon request
RECURRENCE-ID;TZID=America/New_York:20260522T070000
SEQUENCE:0
STATUS:Confirmed
SUMMARY:Yale Surgical Society Annual Lectureship
UID:0c6a0e48-9440-49e4-9051-6acb0fc001e8
END:VEVENT
BEGIN:VEVENT
DESCRIPTION:\nSpeaker:\nCarmen C. Solorzano\, MD\n\nAdmission:\nFree\n\nFo
 od:\nBreakfast\, Coffee\n\nDetails URL:\nhttps://medicine.yale.edu/event/
 department-of-surgery-grand-rounds-and-qi-39/\n
DTEND;TZID=America/New_York:20260529T083000
DTSTAMP:20260425T081453Z
DTSTART;TZID=America/New_York:20260529T073000
LOCATION:Zoom link available upon request
RECURRENCE-ID;TZID=America/New_York:20260529T073000
SEQUENCE:0
STATUS:Confirmed
SUMMARY:C. Elton Cahow MD Lectureship
UID:0c6a0e48-9440-49e4-9051-6acb0fc001e8
END:VEVENT
BEGIN:VEVENT
DESCRIPTION:\nAdmission:\nFree\n\nFood:\nBreakfast\, Coffee\n\nDetails URL
 :\nhttps://medicine.yale.edu/event/department-of-surgery-grand-rounds-and
 -qi-40/\n
DTEND;TZID=America/New_York:20260605T080000
DTSTAMP:20260425T081453Z
DTSTART;TZID=America/New_York:20260605T070000
LOCATION:Zoom link available upon request
RECURRENCE-ID;TZID=America/New_York:20260605T070000
SEQUENCE:0
STATUS:Confirmed
SUMMARY:Combined Grand Rounds: Pride Month Lectureship
UID:0c6a0e48-9440-49e4-9051-6acb0fc001e8
END:VEVENT
BEGIN:VEVENT
DESCRIPTION:All Hands session. Full Department attendance is expected.\n\n
 Speaker:\nSelwyn O. Rogers\, Jr.\, MD\, MPH\n\nAdmission:\nFree\n\nFood:\
 nCoffee\, Breakfast\n\nDetails URL:\nhttps://medicine.yale.edu/event/depa
 rtment-of-surgery-grand-rounds-and-qi-41/\n
DTEND;TZID=America/New_York:20260612T080000
DTSTAMP:20260425T081453Z
DTSTART;TZID=America/New_York:20260612T070000
LOCATION:Zoom details sent via Outlook
RECURRENCE-ID;TZID=America/New_York:20260612T070000
SEQUENCE:0
STATUS:Confirmed
SUMMARY:Caring in Medicine Lectureship
UID:0c6a0e48-9440-49e4-9051-6acb0fc001e8
END:VEVENT
BEGIN:VEVENT
DESCRIPTION:\nAdmission:\nFree\n\nFood:\nBreakfast\, Coffee\n\nDetails URL
 :\nhttps://medicine.yale.edu/event/department-of-surgery-grand-rounds-and
 -qi-43/\n
DTEND;TZID=America/New_York:20260626T083000
DTSTAMP:20260425T081453Z
DTSTART;TZID=America/New_York:20260626T073000
LOCATION:Zoom link available upon request
RECURRENCE-ID;TZID=America/New_York:20260626T073000
SEQUENCE:0
STATUS:Confirmed
SUMMARY:Triennial Showcase
UID:0c6a0e48-9440-49e4-9051-6acb0fc001e8
END:VEVENT
BEGIN:VEVENT
DESCRIPTION:\nAdmission:\nFree\n\nFood:\nCoffee\, Breakfast\n
DTEND;TZID=America/New_York:20250905T083000
DTSTAMP:20260425T081453Z
DTSTART;TZID=America/New_York:20250905T073000
EXDATE:20251226T073000
EXDATE:20260102T073000
EXDATE:20251128T073000
EXDATE:20260403T073000
EXDATE:20260703T073000
EXDATE:20260710T073000
EXDATE:20260619T073000
LOCATION:Zoom details sent via Outlook
RRULE:FREQ=WEEKLY;UNTIL=20260711T035959Z;BYDAY=FR
SEQUENCE:0
STATUS:Confirmed
SUMMARY:Surgery Grand Rounds
UID:0c6a0e48-9440-49e4-9051-6acb0fc001e8
END:VEVENT
END:VCALENDAR
