BEGIN:VCALENDAR
PRODID:-//github.com/ical-org/ical.net//NONSGML ical.net 4.0//EN
VERSION:2.0
BEGIN:VTIMEZONE
TZID:America/New_York
X-LIC-LOCATION:America/New_York
BEGIN:STANDARD
DTSTART:20241103T020000
RRULE:FREQ=YEARLY;BYDAY=1SU;BYMONTH=11
TZNAME:EST
TZOFFSETFROM:-0400
TZOFFSETTO:-0500
END:STANDARD
BEGIN:DAYLIGHT
DTSTART:20250309T020000
RRULE:FREQ=YEARLY;BYDAY=2SU;BYMONTH=3
TZNAME:EDT
TZOFFSETFROM:-0500
TZOFFSETTO:-0400
END:DAYLIGHT
END:VTIMEZONE
BEGIN:VEVENT
DESCRIPTION:\nSpeaker:\nDi Zhang\n\nAdmission:\nFree\n\nFood:\nCoffee\n\nD
 etails URL:\nhttps://medicine.yale.edu/event/yale-stem-cell-center-resear
 ch-forum-4/\n
DTEND;TZID=America/New_York:20260204T100000
DTSTAMP:20260424T070049Z
DTSTART;TZID=America/New_York:20260204T090000
GEO:41.299853;-72.931710
LOCATION:Amistad Street Building\, 112\, 10 Amistad Street\, New Haven\, C
 T\, United States
RECURRENCE-ID;TZID=America/New_York:20260204T090000
SEQUENCE:0
STATUS:Confirmed
SUMMARY:Yale Stem Cell Center Research Forum
UID:2b6c1b96-62c6-4bfb-9e4d-e745894e8358
END:VEVENT
BEGIN:VEVENT
DESCRIPTION:\nSpeakers:\nRichard Sutton\; Abhiram Natu\n\nAdmission:\nFree
 \n\nFood:\nCoffee\n\nDetails URL:\nhttps://medicine.yale.edu/event/yale-s
 tem-cell-center-research-forum-5/\n
DTEND;TZID=America/New_York:20260304T100000
DTSTAMP:20260424T070049Z
DTSTART;TZID=America/New_York:20260304T090000
GEO:41.299853;-72.931710
LOCATION:Amistad Street Building\, 112\, 10 Amistad Street\, New Haven\, C
 T\, United States
RECURRENCE-ID;TZID=America/New_York:20260304T090000
SEQUENCE:0
STATUS:Confirmed
SUMMARY:Yale Stem Cell Center Research Forum
UID:2b6c1b96-62c6-4bfb-9e4d-e745894e8358
END:VEVENT
BEGIN:VEVENT
DESCRIPTION:\nSpeakers:\nHan Xu\; Brendan O'Brien\n\nAdmission:\nFree\n\nF
 ood:\nCoffee\n\nDetails URL:\nhttps://medicine.yale.edu/event/yale-stem-c
 ell-center-research-forum-6/\n
DTEND;TZID=America/New_York:20260401T100000
DTSTAMP:20260424T070049Z
DTSTART;TZID=America/New_York:20260401T090000
GEO:41.299853;-72.931710
LOCATION:Amistad Street Building\, 112\, 10 Amistad Street\, New Haven\, C
 T\, United States
RECURRENCE-ID;TZID=America/New_York:20260401T090000
SEQUENCE:0
STATUS:Confirmed
SUMMARY:Yale Stem Cell Center Research Forum
UID:2b6c1b96-62c6-4bfb-9e4d-e745894e8358
END:VEVENT
BEGIN:VEVENT
DESCRIPTION:\nSpeaker:\nQuan Wang\, PhD\n\nAdmission:\nFree\n\nFood:\nCoff
 ee\n\nDetails URL:\nhttps://medicine.yale.edu/event/yale-stem-cell-center
 -research-forum-7/\n
DTEND;TZID=America/New_York:20260506T100000
DTSTAMP:20260424T070049Z
DTSTART;TZID=America/New_York:20260506T090000
GEO:41.299853;-72.931710
LOCATION:Amistad Street Building\, 112\, 10 Amistad Street\, New Haven\, C
 T\, United States
RECURRENCE-ID;TZID=America/New_York:20260506T090000
SEQUENCE:0
STATUS:Confirmed
SUMMARY:Yale Stem Cell Center Research Forum
UID:2b6c1b96-62c6-4bfb-9e4d-e745894e8358
END:VEVENT
BEGIN:VEVENT
DESCRIPTION:\nSpeakers:\nAbigail Benvie\; Pieter Martino\n\nAdmission:\nFr
 ee\n\nFood:\nCoffee\n\nDetails URL:\nhttps://medicine.yale.edu/event/yale
 -stem-cell-center-research-forum-8/\n
DTEND;TZID=America/New_York:20260603T100000
DTSTAMP:20260424T070049Z
DTSTART;TZID=America/New_York:20260603T090000
GEO:41.299853;-72.931710
LOCATION:Amistad Street Building\, 112\, 10 Amistad Street\, New Haven\, C
 T\, United States
RECURRENCE-ID;TZID=America/New_York:20260603T090000
SEQUENCE:0
STATUS:Confirmed
SUMMARY:Yale Stem Cell Center Research Forum
UID:2b6c1b96-62c6-4bfb-9e4d-e745894e8358
END:VEVENT
BEGIN:VEVENT
DESCRIPTION:\nSpeakers:\nShubhangini Kataruka\; Ji Hyun Kim\, PhD\n\nAdmis
 sion:\nFree\n\nFood:\nCoffee\n\nDetails URL:\nhttps://medicine.yale.edu/e
 vent/yale-stem-cell-center-research-forum-10/\n
DTEND;TZID=America/New_York:20260805T100000
DTSTAMP:20260424T070049Z
DTSTART;TZID=America/New_York:20260805T090000
GEO:41.299853;-72.931710
LOCATION:Amistad Street Building\, 112\, 10 Amistad Street\, New Haven\, C
 T\, United States
RECURRENCE-ID;TZID=America/New_York:20260805T090000
SEQUENCE:0
STATUS:Confirmed
SUMMARY:Yale Stem Cell Center Research Forum
UID:2b6c1b96-62c6-4bfb-9e4d-e745894e8358
END:VEVENT
BEGIN:VEVENT
DESCRIPTION:\nSpeaker:\nAbigail Robb\n\nAdmission:\nFree\n\nFood:\nCoffee\
 n\nDetails URL:\nhttps://medicine.yale.edu/event/yale-stem-cell-center-re
 search-forum-11/\n
DTEND;TZID=America/New_York:20260902T100000
DTSTAMP:20260424T070049Z
DTSTART;TZID=America/New_York:20260902T090000
GEO:41.299853;-72.931710
LOCATION:Amistad Street Building\, 112\, 10 Amistad Street\, New Haven\, C
 T\, United States
RECURRENCE-ID;TZID=America/New_York:20260902T090000
SEQUENCE:0
STATUS:Confirmed
SUMMARY:Yale Stem Cell Center Research Forum
UID:2b6c1b96-62c6-4bfb-9e4d-e745894e8358
END:VEVENT
BEGIN:VEVENT
DESCRIPTION:\nSpeakers:\nDon Nguyen\; Tianchi Xin\n\nAdmission:\nFree\n\nF
 ood:\nCoffee\n\nDetails URL:\nhttps://medicine.yale.edu/event/yale-stem-c
 ell-center-research-forum-12/\n
DTEND;TZID=America/New_York:20261007T100000
DTSTAMP:20260424T070049Z
DTSTART;TZID=America/New_York:20261007T090000
GEO:41.299853;-72.931710
LOCATION:Amistad Street Building\, 112\, 10 Amistad Street\, New Haven\, C
 T\, United States
RECURRENCE-ID;TZID=America/New_York:20261007T090000
SEQUENCE:0
STATUS:Confirmed
SUMMARY:Yale Stem Cell Center Research Forum
UID:2b6c1b96-62c6-4bfb-9e4d-e745894e8358
END:VEVENT
BEGIN:VEVENT
DESCRIPTION:\nSpeaker:\nDillon Chen\n\nAdmission:\nFree\n\nFood:\nCoffee\n
 \nDetails URL:\nhttps://medicine.yale.edu/event/yale-stem-cell-center-res
 earch-forum-13/\n
DTEND;TZID=America/New_York:20261104T100000
DTSTAMP:20260424T070049Z
DTSTART;TZID=America/New_York:20261104T090000
GEO:41.299853;-72.931710
LOCATION:Amistad Street Building\, 112\, 10 Amistad Street\, New Haven\, C
 T\, United States
RECURRENCE-ID;TZID=America/New_York:20261104T090000
SEQUENCE:0
STATUS:Confirmed
SUMMARY:Yale Stem Cell Center Research Forum
UID:2b6c1b96-62c6-4bfb-9e4d-e745894e8358
END:VEVENT
BEGIN:VEVENT
DESCRIPTION:\nSpeaker:\nBong Ihn Koh\n\nAdmission:\nFree\n\nFood:\nCoffee\
 n\nDetails URL:\nhttps://medicine.yale.edu/event/yale-stem-cell-center-re
 search-forum-14/\n
DTEND;TZID=America/New_York:20261202T100000
DTSTAMP:20260424T070049Z
DTSTART;TZID=America/New_York:20261202T090000
GEO:41.299853;-72.931710
LOCATION:Amistad Street Building\, 112\, 10 Amistad Street\, New Haven\, C
 T\, United States
RECURRENCE-ID;TZID=America/New_York:20261202T090000
SEQUENCE:0
STATUS:Confirmed
SUMMARY:Yale Stem Cell Center Research Forum
UID:2b6c1b96-62c6-4bfb-9e4d-e745894e8358
END:VEVENT
BEGIN:VEVENT
DESCRIPTION:\nAdmission:\nFree\n\nFood:\nCoffee\n
DTEND;TZID=America/New_York:20260204T100000
DTSTAMP:20260424T070049Z
DTSTART;TZID=America/New_York:20260204T090000
EXDATE:20260701T090000
GEO:41.299853;-72.931710
LOCATION:Amistad Street Building\, 112\, 10 Amistad Street\, New Haven\, C
 T\, United States
RRULE:FREQ=MONTHLY;UNTIL=20261205T045959Z;BYDAY=1WE
SEQUENCE:0
STATUS:Confirmed
SUMMARY:Yale Stem Cell Center Research Forum
UID:2b6c1b96-62c6-4bfb-9e4d-e745894e8358
END:VEVENT
END:VCALENDAR
