BEGIN:VCALENDAR
PRODID:-//github.com/ical-org/ical.net//NONSGML ical.net 4.0//EN
VERSION:2.0
BEGIN:VTIMEZONE
TZID:America/New_York
X-LIC-LOCATION:America/New_York
BEGIN:STANDARD
DTSTART:20241103T020000
RRULE:FREQ=YEARLY;BYDAY=1SU;BYMONTH=11
TZNAME:EST
TZOFFSETFROM:-0400
TZOFFSETTO:-0500
END:STANDARD
BEGIN:DAYLIGHT
DTSTART:20250309T020000
RRULE:FREQ=YEARLY;BYDAY=2SU;BYMONTH=3
TZNAME:EDT
TZOFFSETFROM:-0500
TZOFFSETTO:-0400
END:DAYLIGHT
END:VTIMEZONE
BEGIN:VEVENT
DESCRIPTION:Yale Child Study Center (YCSC) professional education communit
 y meetings will be held every other month for academic year 2024-2025\, o
 n second Tuesdays from 2:10-3 p.m. via Zoom and beginning in November. Th
 e goal of these meetings is to provide a collaborative and supportive spa
 ce for YCSC faculty and staff who currently provide and/or are interested
  in providing educational or professional development offerings external 
 to the department. Convened by YCSC Vice Chair for Professional Developme
 nt & Education Julie Wolf\, these meetings provide an opportunity to shar
 e ideas\, discuss successes and challenges\, learn from one another\, gai
 n support\, and build collaborations. Who should attend? All in the YCSC 
 community are welcome at these meetings\, and those for whom the followin
 g circumstances or roles apply are highly encouraged to attend. Please re
 fer to the Outlook calendar event for Zoom details. As part of your work\
 , you offer consultation to outside agencies (schools\, hospitals\, pedia
 tricians\, parent groups\, etc.). You conduct conferences\, workshops\, s
 eminars\, or training sessions for parents\, educators\, or providers out
 side of the YCSC. You have existing pre-recorded content that you would l
 ike to make available online to parents\, educators\, and/or providers ou
 tside of the YCSC. You are interested in developing any of the above. Ple
 ase refer to the department's Outlook calendar for Zoom details\, and con
 tact Julie with any questions.\n\nAdmission:\nFree\n\nDetails URL:\nhttps
 ://medicine.yale.edu/event/ycsc-professional-education-community-meeting-
 6/\n
DTEND;TZID=America/New_York:20250513T150000
DTSTAMP:20260426T022358Z
DTSTART;TZID=America/New_York:20250513T141000
RECURRENCE-ID;TZID=America/New_York:20250513T141000
SEQUENCE:0
STATUS:Confirmed
SUMMARY:Yale Child Study Center Professional Education Community Meeting
UID:c8ab02dd-2c11-4cc8-8c6c-acac7926347a
END:VEVENT
BEGIN:VEVENT
DESCRIPTION:Yale Child Study Center (YCSC) professional education communit
 y meetings will be held every other month for academic year 2024-2025\, o
 n second Tuesdays from 2:10-3 p.m. via Zoom and beginning in November. Th
 e goal of these meetings is to provide a collaborative and supportive spa
 ce for YCSC faculty and staff who currently provide and/or are interested
  in providing educational or professional development offerings external 
 to the department. Convened by YCSC Vice Chair for Professional Developme
 nt & Education Julie Wolf\, these meetings provide an opportunity to shar
 e ideas\, discuss successes and challenges\, learn from one another\, gai
 n support\, and build collaborations. Who should attend? All in the YCSC 
 community are welcome at these meetings\, and those for whom the followin
 g circumstances or roles apply are highly encouraged to attend. Please re
 fer to the Outlook calendar event for Zoom details. As part of your work\
 , you offer consultation to outside agencies (schools\, hospitals\, pedia
 tricians\, parent groups\, etc.). You conduct conferences\, workshops\, s
 eminars\, or training sessions for parents\, educators\, or providers out
 side of the YCSC. You have existing pre-recorded content that you would l
 ike to make available online to parents\, educators\, and/or providers ou
 tside of the YCSC. You are interested in developing any of the above. Ple
 ase refer to the department's Outlook calendar for Zoom details\, and con
 tact Julie with any questions.\n\nAdmission:\nFree\n
DTEND;TZID=America/New_York:20241112T150000
DTSTAMP:20260426T022358Z
DTSTART;TZID=America/New_York:20241112T141000
RRULE:FREQ=MONTHLY;INTERVAL=2;UNTIL=20250514T035959Z;BYDAY=2TU
SEQUENCE:0
STATUS:Confirmed
SUMMARY:Yale Child Study Center Professional Education Community Meeting
UID:c8ab02dd-2c11-4cc8-8c6c-acac7926347a
END:VEVENT
END:VCALENDAR
