BEGIN:VCALENDAR
PRODID:-//github.com/ical-org/ical.net//NONSGML ical.net 4.0//EN
VERSION:2.0
BEGIN:VTIMEZONE
TZID:America/New_York
X-LIC-LOCATION:America/New_York
BEGIN:STANDARD
DTSTART:20241103T020000
RRULE:FREQ=YEARLY;BYDAY=1SU;BYMONTH=11
TZNAME:EST
TZOFFSETFROM:-0400
TZOFFSETTO:-0500
END:STANDARD
BEGIN:DAYLIGHT
DTSTART:20250309T020000
RRULE:FREQ=YEARLY;BYDAY=2SU;BYMONTH=3
TZNAME:EDT
TZOFFSETFROM:-0500
TZOFFSETTO:-0400
END:DAYLIGHT
END:VTIMEZONE
BEGIN:VEVENT
DESCRIPTION:\nSpeaker:\nEllen Foxman\n\nAdmission:\nFree\n\nFood:\nCoffee\
 , Tea\n\nDetails URL:\nhttps://medicine.yale.edu/event/microbiology-gradu
 ate-program-seminar-series-2025-2026-27/\n
DTEND;TZID=America/New_York:20260507T163000
DTSTAMP:20260423T133052Z
DTSTART;TZID=America/New_York:20260507T153000
GEO:41.302200;-72.933362
LOCATION:Hope Memorial Building\, HOPE 216\, 315 Cedar Street\, New Haven\
 , CT\, United States
SEQUENCE:0
STATUS:Confirmed
SUMMARY:Microbiology Graduate Program Seminar Series: 2025 - 2026: Dr. Ell
 en Foxman
UID:c7cca0bd-936f-49f6-914d-8a4f6708fdcf
END:VEVENT
END:VCALENDAR
