BEGIN:VCALENDAR
PRODID:-//github.com/ical-org/ical.net//NONSGML ical.net 4.0//EN
VERSION:2.0
BEGIN:VTIMEZONE
TZID:America/New_York
X-LIC-LOCATION:America/New_York
BEGIN:STANDARD
DTSTART:20241103T020000
RRULE:FREQ=YEARLY;BYDAY=1SU;BYMONTH=11
TZNAME:EST
TZOFFSETFROM:-0400
TZOFFSETTO:-0500
END:STANDARD
BEGIN:DAYLIGHT
DTSTART:20250309T020000
RRULE:FREQ=YEARLY;BYDAY=2SU;BYMONTH=3
TZNAME:EDT
TZOFFSETFROM:-0500
TZOFFSETTO:-0400
END:DAYLIGHT
END:VTIMEZONE
BEGIN:VEVENT
DESCRIPTION:\nSpeakers:\nChad Binns\; Danielle Sohai\n\nAdmission:\nFree\n
 \nFood:\nLunch\n\nDetails URL:\nhttps://medicine.yale.edu/event/laborator
 y-medicine-grand-rounds-2025-70/\n
DTEND;TZID=America/New_York:20260506T130000
DTSTAMP:20260420T181335Z
DTSTART;TZID=America/New_York:20260506T120000
GEO:41.302774;-72.935109
LOCATION:Clinic Building\, PS230\, 789 Howard Avenue\, New Haven\, CT\, Un
 ited States
SEQUENCE:0
STATUS:Confirmed
SUMMARY:Laboratory Medicine Grand Rounds
UID:fbb6df7f-aade-4321-90d5-52c867d0601b
END:VEVENT
END:VCALENDAR
