BEGIN:VCALENDAR
PRODID:-//github.com/ical-org/ical.net//NONSGML ical.net 4.0//EN
VERSION:2.0
BEGIN:VTIMEZONE
TZID:America/New_York
X-LIC-LOCATION:America/New_York
BEGIN:STANDARD
DTSTART:20241103T020000
RRULE:FREQ=YEARLY;BYDAY=1SU;BYMONTH=11
TZNAME:EST
TZOFFSETFROM:-0400
TZOFFSETTO:-0500
END:STANDARD
BEGIN:DAYLIGHT
DTSTART:20250309T020000
RRULE:FREQ=YEARLY;BYDAY=2SU;BYMONTH=3
TZNAME:EDT
TZOFFSETFROM:-0500
TZOFFSETTO:-0400
END:DAYLIGHT
END:VTIMEZONE
BEGIN:VEVENT
DESCRIPTION:\nSpeaker:\nMaria Willrich\, PhD\n\nAdmission:\nFree\n\nFood:\
 nLunch\n\nDetails URL:\nhttps://medicine.yale.edu/event/laboratory-medici
 ne-grand-rounds-2025-68/\n
DTEND;TZID=America/New_York:20260422T130000
DTSTAMP:20260425T140053Z
DTSTART;TZID=America/New_York:20260422T120000
GEO:41.306056;-72.935405
LOCATION:PS230\, 55 Park Street\, New Haven\, CT\, United States
SEQUENCE:0
STATUS:Confirmed
SUMMARY:Laboratory Medicine Grand Rounds
UID:2108817d-d4ba-4c5b-8b1d-ee0aed748a65
END:VEVENT
END:VCALENDAR
