BEGIN:VCALENDAR
PRODID:-//github.com/ical-org/ical.net//NONSGML ical.net 4.0//EN
VERSION:2.0
BEGIN:VTIMEZONE
TZID:America/New_York
X-LIC-LOCATION:America/New_York
BEGIN:STANDARD
DTSTART:20241103T020000
RRULE:FREQ=YEARLY;BYDAY=1SU;BYMONTH=11
TZNAME:EST
TZOFFSETFROM:-0400
TZOFFSETTO:-0500
END:STANDARD
BEGIN:DAYLIGHT
DTSTART:20250309T020000
RRULE:FREQ=YEARLY;BYDAY=2SU;BYMONTH=3
TZNAME:EDT
TZOFFSETFROM:-0500
TZOFFSETTO:-0400
END:DAYLIGHT
END:VTIMEZONE
BEGIN:VEVENT
DESCRIPTION:The Yale Center for Precision Medicine of Trophoblastic Diseas
 e (Y-GTD) is thrilled to announce its 2nd Y-GTD Workshop\, an immersive e
 ducational experience tailored to pathologists\, with a strong emphasis o
 n diagnostic excellence in gestational trophoblastic disease (GTD). This 
 intensive two-and-a-half-day workshop will provide participants with cutt
 ing-edge advances in GTD pathology and precision medicine. Workshop Highl
 ights include Expert-Led Sessions: Engage in comprehensive learning led b
 y world-renowned faculty\; Interactive Environment: Participate in didact
 ic lectures\, interactive microscopy sessions and case presentations focu
 sed on diagnostic strategies\, risk assessment\, and therapeutic guidance
 . Cutting-Edge Technology: Obtain hands-on experience with STR genotyping
  for GTD diagnosis. Networking Opportunities: Connect with fellow special
 ists in an intimate setting\, limited to only 13 participants\, ensuring 
 a high-impact learning experience.\n\nSpeakers:\nPei Hui\; Natalia Buza\;
  Krasimira Rozenova\; Deyin Xing\, MD\, PhD\n\nAdmission:\nRegistrationFe
 es: $950\n\nFood:\nBreakfast\, Coffee\, Lunch: We will provide three brea
 kfasts\, two lunches\, and coffee breaks.\n\nDetails URL:\nhttps://medici
 ne.yale.edu/event/2nd-y-gtd-workshop-for-precision-diagnosis-of-trophobla
 stic-disease/\n
DTEND;TZID=America/New_York:20260511T114500
DTSTAMP:20260423T094304Z
DTSTART;TZID=America/New_York:20260509T083000
GEO:41.302718;-72.934280
LOCATION:Brady Memorial Laboratory\, 310 Cedar Street\, New Haven\, CT\, U
 nited States
SEQUENCE:0
STATUS:Confirmed
SUMMARY:2nd Y-GTD Workshop for Precision Diagnosis of Trophoblastic Disease
UID:b9500729-ce59-4e2a-8107-8a651b94a9f9
END:VEVENT
BEGIN:VEVENT
DESCRIPTION:\nAdmission:\nRegistrationFees: $950\n\nDetails URL:\nhttps://
 medicine.yale.edu/event/y-gtd-workshop-session-1/\n
DTEND;TZID=America/New_York:20260509T154500
DTSTAMP:20260423T094304Z
DTSTART;TZID=America/New_York:20260509T083000
SEQUENCE:0
STATUS:Confirmed
SUMMARY:Y-GTD Workshop\, Session 1
UID:947a45a5-8144-4d24-8a2e-14a0ad225347
END:VEVENT
BEGIN:VEVENT
DESCRIPTION:\nAdmission:\nRegistrationFees: $950\n\nDetails URL:\nhttps://
 medicine.yale.edu/event/y-gtd-workshop-session-2/\n
DTEND;TZID=America/New_York:20260510T151500
DTSTAMP:20260423T094304Z
DTSTART;TZID=America/New_York:20260510T083000
SEQUENCE:0
STATUS:Confirmed
SUMMARY:Y-GTD Workshop\, Session 2
UID:84da4d6b-0bc0-4a51-b4b0-321a55a6bc97
END:VEVENT
BEGIN:VEVENT
DESCRIPTION:\nAdmission:\nRegistrationFees: $950\n\nDetails URL:\nhttps://
 medicine.yale.edu/event/y-gtd-workshop-session-3/\n
DTEND;TZID=America/New_York:20260511T114500
DTSTAMP:20260423T094304Z
DTSTART;TZID=America/New_York:20260511T083000
GEO:41.302718;-72.934280
LOCATION:Brady Memorial Laboratory\, 310 Cedar Street\, New Haven\, CT\, U
 nited States
SEQUENCE:0
STATUS:Confirmed
SUMMARY:Y-GTD Workshop\, Session 3
UID:e653e393-1e19-465c-89ad-2725a009bd97
END:VEVENT
END:VCALENDAR
